{"text_format":"1","workbook":"xlsx","n_sheets":1,"sheets":["Rectas aplicadas"],"not_rendered":{"charts":0,"images":0,"macros":1,"external_links":1,"defined_names":0,"comments":1,"pivot_tables":0},"unopened":[],"bounds":{"document_bytes":16777216,"sheet_cells":100000,"rows_first":2000,"rows_last":500,"rows_between":2000,"halvings":0,"cell_chars":16384,"cell_head_chars":4096},"cells_cut":0,"cells_raw":0,"read":"whole","date_system":"1900"}

{"sheet":"Rectas aplicadas","index":0,"n_rows":64,"n_cols":17,"rows_kept":64,"cut":false,"hidden":false,"merged":[[59,3,60,3],[59,2,60,2],[57,1,57,4],[59,4,60,4],[24,2,24,4],[39,2,39,4],[42,2,42,4],[32,2,32,4],[37,2,37,4],[27,2,27,4],[29,2,29,4],[34,2,34,4],[7,15,8,15],[1,1,1,4],[21,2,21,4],[9,15,11,15],[15,15,16,15]]}
[]
[null,"Superacions enregistrades 2023"]
[]
[null,"BW1","horàries >  200% VLE ","diàries  > 110% VLE","mensuals  >   VLE",null,null,null,"Funcions de calibració"]
[null,"SO2",0,0,0,null,null,null,null,null,null,null,"Rectes anteriors",null,null,"Informe en detall d'indisponiblitats i superacions:"]
[null,"NOx",0,0,0,null,"Grup","Contaminant","Pendent","Offset","Informe","Aplicació","Pendent","Offset",null,"BW1","Indisponiblitats del 07 al 10/07 pel CO degut a que durant el cap de setmana l'analitzador presenta valors congelats"]
[null,"Par",0,0,0,null,"BW1","CO",0.98,2.72,"2022-09-12","2022-10-06",0.78,18.32,null,"BW2","Indisponiblitat el 25/12 pel CO, NOx, SO2 degut a un fall del SAM multiparamètric"]
[null,"CO",0,0,0,null,"BW1","NOx",1.1200000000000001,0,"2022-09-12","2022-10-06",1.05,0,null,"BW3","Indisponiblitat el 09/06 pel CO, NOx, SO2 degut a un fall del SAM multiparamètric"]
[null,null,null,null,null,null,"BW1","SO2",1,-16,"2022-09-12","2022-10-06",0.8,0,null,null,"Indisponiblitat l' 01/08 pel CO, NOx, SO2 degut a un fall d'alimentación del SAM multiparamètric."]
[null,"BW2","horàries >  200% VLE ","diàries  > 110% VLE","mensuals  >   VLE",null,"BW1","Partículas",521.86,0,"2022-09-12","2022-10-06",121.33,12.93,null,"TG1","Indisponiblitat el 12/07 pel contaminant de Partícules degut a un fall de l'opacímetre durant unes proves per excés de temperatura."]
[null,"SO2",0,0,0,null,"BW2","CO",1.0900000000000001,0,"2023-09-11","2023-11-06",1.1299999999999999,14.32,null,null,"Indisponiblitat del 21/10 a 23/10 pel contaminant de Partícules degut a un fall de l'opacímetre des del divendres fins el dilluns que s'observa l'alarma i es repara."]
[null,"NOx",0,0,0,null,"BW2","NOx",1.1100000000000001,0,"2023-09-11","2023-11-06",1.26,0,null,null,"Indisponiblitat el 15/11 pel contaminant de Partícules degut a que l'opacímetre es queda funcionant unes hores en valors de 0 degut a problemes amb l'oxigen humit."]
[null,"Par",0,0,0,null,"BW2","SO2",1.03,-19.57,"2022-08-26","2022-10-06",0.85,0,null,"TG3A"]
[null,"CO",0,0,0,null,"BW2","Partículas",544.66,0,"2022-08-26","2022-10-06",166.69,16.559999999999999,null,"TG3B"]
[null,null,null,null,null,null,"BW3","CO",1.0900000000000001,0,"2023-09-11","2023-11-06",1.1200000000000001,5.46,null,"TG4A","Superació horaria del 200% del VLE de NOx (90 mg/Nm3) el 06/02 degut a problemes d'injecció d'aigua (flag A)."]
[null,"BW3","horàries >  200% VLE ","diàries  > 110% VLE","mensuals  >   VLE",null,"BW3","NOx",0.83,0,"2022-08-25","2022-10-06",0.86,0,null,"TG4B","Indisponiblitat el 24/04 pel contaminant de Partícules degut a un fall de l'opacímetre"]
[null,"SO2",0,0,0,null,"BW3","SO2",0.99,5.56,"2022-08-25","2022-10-06",1.04,0,null,null,"Indisponiblitats del 16 al 21/06 pel contaminant de Partícules degut a un fall de l'opacímetre."]
[null,"NOx",0,0,0,null,"BW3","Partículas",96.91,0,"2022-08-25","2022-10-06",331.6,0,null,"TG5A","Superació horaria del 200% del VLE de NOx (90 mg/Nm3) el 26/06."]
[null,"Par",0,0,0,null,null,null,null,null,null,null,"Rectes anteriors",null,null,"TG5B"]
[null,"CO",0,0,0,null,"Grup","Contaminant","Pendent","Offset","Informe","Aplicació","Pendent","Offset"]
[null,null,null,null,null,null,"TG4A","NOx",0.96,0,"2022-01-19","2021-10-15",0.88,5.49]
[null,"TG2","Hores anuals funcionament < 500",null,null,null,"TG4A","Partícules",8.7100000000000009,0.18,"2022-01-19","2021-10-15",66.66,0]
[null,null,null,null,null,null,"TG4A","CO",1.01,-0.66,"2022-01-19","2021-10-15",0.95,5.28]
[null,"TG1","horàries >  200% VLE ","diàries  > 110% VLE","mensuals  >   VLE",null,"TG4B","NOx",1.04,0,"2022-01-19","2021-10-12",0.99,0]
[null,"SO2","Exenta de mesura",null,null,null,"TG4B","Partículas",23.46,-1.21,"2023-04-03","2023-06-01",4.6399999999999997,0]
[null,"NOx",0,0,0,null,"TG4B","CO",1.01,0.01,"2022-01-19","2021-10-12",1.1599999999999999,3.84]
[null,"Par",0,0,0,null,"TG5A","NOx",0.96,0,"2022-01-19","2021-10-19",1.35,-33.19]
[null,"CO","Valors vàlids molt inferiors a VLE",null,null,null,"TG5A","CO",0.96,0,"2022-01-19","2021-10-19",1.05,4.13]
[null,"TG3","horàries >  200% VLE ","diàries  > 110% VLE","mensuals  >   VLE",null,"TG5A","Partículas",29.13,0,"2023-04-04","2023-05-12",49.69,0]
[null,"SO2","Exenta de mesura",null,null,null,"TG5B","NOx",1,0,"2022-01-19","2021-10-20",0.79,0]
[null,"NOx",0,0,0,null,"TG5B","CO",1.21,0.04,"2022-01-19","2021-10-20",1.1499999999999999,4.3]
[null,"Par",0,0,0,null,"TG5B","Partículas",7.15,0,"2022-01-19","2021-10-20",11.5,0]
[null,"CO","Valors vàlids molt inferiors a VLE",null,null,null,"TG3A","SO2",0.95,3.06,"2018-04-03","2018-04-17"]
[null,"TG4","horàries >  200% VLE ","diàries  > 110% VLE","mensuals  >   VLE",null,"TG3A","NOx",0.94,0,"2023-03-22","2023-06-01",1.01,0]
[null,"SO2","Exenta de mesura",null,null,null,"TG3A","Partícules",0.01,0,"2022-03-31","2022-07-18",12.92,0]
[null,"NOx",0,0,0,null,"TG3A","CO",0.94,6.87,"2023-03-22","2023-06-01",0.94,7.46]
[null,"Par",0,0,0,null,"TG3B","SO2",0.96,1.85,"2018-04-03","2018-04-17"]
[null,"CO","Valors vàlids molt inferiors a VLE",null,null,null,"TG3B","NOx",1.24,-16.11,"2023-04-21","2023-05-12",0.88,7.34]
[null,"TG5","horàries >  200% VLE ","diàries  > 110% VLE","mensuals  >   VLE",null,"TG3B","Partícules",14.64,0,"2020-03-30","2020-05-20",6.25,0]
[null,"SO2","Exenta de mesura",null,null,null,"TG3B","CO",1,0.16,"2023-04-21","2023-05-12",0.99,1.86]
[null,"NOx",1,0,0,null,"TG1","NOx",0.91349999999999998,1.0634999999999999,"2022-12-01","2023-02-07"]
[null,"Par",0,0,0,null,"TG1","Partícules",3.1E-2,2.5399999999999999E-2,"2022-12-01","2023-02-07"]
[null,"CO","Valors vàlids molt inferiors a VLE",null,null,null,"TG1","CO",1.0725,1.6592,"2022-12-01","2023-02-07"]
[]
[null,null,"Hores de funcionament 2023"]
[]
[null,null,"Gener","Febrer","Març","Abril","Maig","Juny","Juliol","Agost","Setembre","Octubre","Novembre","Desembre",2023]
[null,"BW-1",{"$f":"INDEX([1]!HFUMHONBW1,1,1)","v":0},{"$f":"INDEX([1]!HFUMHONBW1,1,2)","v":19.466666666732635},{"$f":"INDEX([1]!HFUMHONBW1,1,3)","v":0},{"$f":"INDEX([1]!HFUMHONBW1,1,4)","v":1.3500000000349246},{"$f":"INDEX([1]!HFUMHONBW1,1,5)","v":3.7000000000116415},{"$f":"INDEX([1]!HFUMHONBW1,1,6)","v":3.0833333332557231},{"$f":"INDEX([1]!HFUMHONBW1,1,7)","v":697.54999999998836},{"$f":"INDEX([1]!HFUMHONBW1,1,8)","v":586.7333333332208},{"$f":"INDEX([1]!HFUMHONBW1,1,9)","v":64.250000000058208},{"$f":"INDEX([1]!HFUMHONBW1,1,10)","v":0},{"$f":"INDEX([1]!HFUMHONBW1,1,11)","v":1.6569430000000001},{"$f":"INDEX([1]!HFUMHONBW1,1,12)","v":93.087500000000006},{"$f":"SUM(C48:N48)","v":1470.8777763333023}]
[null,"BW-2",{"$f":"INDEX([1]!HFUMHONBW2,1,1)","v":13.183333333348855},{"$f":"INDEX([1]!HFUMHONBW2,1,2)","v":18.033333333441988},{"$f":"INDEX([1]!HFUMHONBW2,1,3)","v":9.3999999999068677},{"$f":"INDEX([1]!HFUMHONBW2,1,4)","v":12.550000000046566},{"$f":"INDEX([1]!HFUMHONBW2,1,5)","v":0},{"$f":"INDEX([1]!HFUMHONBW2,1,6)","v":6.46666666661622},{"$f":"INDEX([1]!HFUMHONBW2,1,7)","v":502.91666666662786},{"$f":"INDEX([1]!HFUMHONBW2,1,8)","v":701.78333333332557},{"$f":"INDEX([1]!HFUMHONBW2,1,9)","v":98.06666666676756},{"$f":"INDEX([1]!HFUMHONBW2,1,10)","v":1.5499999999883585},{"$f":"INDEX([1]!HFUMHONBW2,1,11)","v":0},{"$f":"INDEX([1]!HFUMHONBW2,1,12)","v":110.652777},{"$f":"SUM(C49:N49)","v":1474.6027770000699}]
[null,"BW-3",{"$f":"INDEX([1]!HFUMHONBW3,1,1)","v":0},{"$f":"INDEX([1]!HFUMHONBW3,1,2)","v":5.9666666665580124},{"$f":"INDEX([1]!HFUMHONBW3,1,3)","v":0},{"$f":"INDEX([1]!HFUMHONBW3,1,4)","v":2.7500000000582077},{"$f":"INDEX([1]!HFUMHONBW3,1,5)","v":0},{"$f":"INDEX([1]!HFUMHONBW3,1,6)","v":4.2333333333372138},{"$f":"INDEX([1]!HFUMHONBW3,1,7)","v":637.6333333334187},{"$f":"INDEX([1]!HFUMHONBW3,1,8)","v":737.11666666675592},{"$f":"INDEX([1]!HFUMHONBW3,1,9)","v":9.9666666666744277},{"$f":"INDEX([1]!HFUMHONBW3,1,10)","v":2.1666666665696539},{"$f":"INDEX([1]!HFUMHONBW3,1,11)","v":0},{"$f":"INDEX([1]!HFUMHONBW3,1,12)","v":76.576389000000006},{"$f":"SUM(C50:N50)","v":1476.4097223333722}]
[null,"TG-1",{"$f":"INDEX([1]!HFUMHONTG1,1,1)","v":35.883333333127666},{"$f":"INDEX([1]!HFUMHONTG1,1,2)","v":31.100000000093132},{"$f":"INDEX([1]!HFUMHONTG1,1,3)","v":12.899999999965075},{"$f":"INDEX([1]!HFUMHONTG1,1,4)","v":4.1666666668024845},{"$f":"INDEX([1]!HFUMHONTG1,1,5)","v":0},{"$f":"INDEX([1]!HFUMHONTG1,1,6)","v":5.5833333333721384},{"$f":"INDEX([1]!HFUMHONTG1,1,7)","v":14.749999999883585},{"$f":"INDEX([1]!HFUMHONTG1,1,8)","v":5.6999999998952262},{"$f":"INDEX([1]!HFUMHONTG1,1,9)","v":0},{"$f":"INDEX([1]!HFUMHONTG1,1,10)","v":569.38333333312767},{"$f":"INDEX([1]!HFUMHONTG1,1,11)","v":646.88472300000001},{"$f":"INDEX([1]!HFUMHONTG1,1,12)","v":381.94722200000001},{"$f":"SUM(C51:N51)","v":1708.2986116662671}]
[null,"TG-2",{"$f":"INDEX([1]!HFUMHONTG2,1,1)","v":0},{"$f":"INDEX([1]!HFUMHONTG2,1,2)","v":0},{"$f":"INDEX([1]!HFUMHONTG2,1,3)","v":8.9166666667442769},{"$f":"INDEX([1]!HFUMHONTG2,1,4)","v":0},{"$f":"INDEX([1]!HFUMHONTG2,1,5)","v":13.833333333197515},{"$f":"INDEX([1]!HFUMHONTG2,1,6)","v":5.2000000001862645},{"$f":"INDEX([1]!HFUMHONTG2,1,7)","v":7.7500000001164153},{"$f":"INDEX([1]!HFUMHONTG2,1,8)","v":12.033333333441988},{"$f":"INDEX([1]!HFUMHONTG2,1,9)","v":6.0833333334303461},{"$f":"INDEX([1]!HFUMHONTG2,1,10)","v":93.933333333756309},{"$f":"INDEX([1]!HFUMHONTG2,1,11)","v":28.05},{"$f":"INDEX([1]!HFUMHONTG2,1,12)","v":6.6416649999999997},{"$f":"SUM(C52:N52)","v":182.44166500087312}]
[null,"TG-3",{"$f":"INDEX([1]!HFUMHONTG3,1,1)","v":298.99999999970896},{"$f":"INDEX([1]!HFUMHONTG3,1,2)","v":354.30833333346527},{"$f":"INDEX([1]!HFUMHONTG3,1,3)","v":169.89166666689562},{"$f":"INDEX([1]!HFUMHONTG3,1,4)","v":165.40833333326736},{"$f":"INDEX([1]!HFUMHONTG3,1,5)","v":242.44166666659294},{"$f":"INDEX([1]!HFUMHONTG3,1,6)","v":395.32499999989523},{"$f":"INDEX([1]!HFUMHONTG3,1,7)","v":241.61666666678502},{"$f":"INDEX([1]!HFUMHONTG3,1,8)","v":238.25833333333139},{"$f":"INDEX([1]!HFUMHONTG3,1,9)","v":376.50000000052387},{"$f":"INDEX([1]!HFUMHONTG3,1,10)","v":34.241666666697711},{"$f":"INDEX([1]!HFUMHONTG3,1,11)","v":210.94513849999998},{"$f":"INDEX([1]!HFUMHONTG3,1,12)","v":220.928472},2948.8652771671636]
[null,"TG-4",{"$f":"INDEX([1]!HFUMHONTG4,1,1)","v":287.0166666667792},{"$f":"INDEX([1]!HFUMHONTG4,1,2)","v":394.95833333360497},{"$f":"INDEX([1]!HFUMHONTG4,1,3)","v":332.07500000018626},{"$f":"INDEX([1]!HFUMHONTG4,1,4)","v":339.33333333319752},{"$f":"INDEX([1]!HFUMHONTG4,1,5)","v":415.79999999993015},{"$f":"INDEX([1]!HFUMHONTG4,1,6)","v":582.95000000012806},{"$f":"INDEX([1]!HFUMHONTG4,1,7)","v":425.83333333348855},{"$f":"INDEX([1]!HFUMHONTG4,1,8)","v":432.72500000000582},{"$f":"INDEX([1]!HFUMHONTG4,1,9)","v":519.64166666701203},{"$f":"INDEX([1]!HFUMHONTG4,1,10)","v":412.41666666668607},{"$f":"INDEX([1]!HFUMHONTG4,1,11)","v":58.135415500000001},{"$f":"INDEX([1]!HFUMHONTG4,1,12)","v":153.34097200000002},4354.2263875010185]
[null,"TG-5",{"$f":"INDEX([1]!HFUMHONTG5,1,1)","v":374.06666666676756},{"$f":"INDEX([1]!HFUMHONTG5,1,2)","v":153.1166666666104},{"$f":"INDEX([1]!HFUMHONTG5,1,3)","v":383.56666666662204},{"$f":"INDEX([1]!HFUMHONTG5,1,4)","v":344.34999999988941},{"$f":"INDEX([1]!HFUMHONTG5,1,5)","v":369.57499999986612},{"$f":"INDEX([1]!HFUMHONTG5,1,6)","v":270.46666666652891},{"$f":"INDEX([1]!HFUMHONTG5,1,7)","v":331.96666666635429},{"$f":"INDEX([1]!HFUMHONTG5,1,8)","v":240.60833333348273},{"$f":"INDEX([1]!HFUMHONTG5,1,9)","v":356.06666666685487},{"$f":"INDEX([1]!HFUMHONTG5,1,10)","v":250.49166666690144},{"$f":"INDEX([1]!HFUMHONTG5,1,11)","v":134.46555549999999},{"$f":"INDEX([1]!HFUMHONTG5,1,12)","v":208.654166},3417.3947214998775]
[]
[null,null,null,null,null,null,null,null,null,null," "]
[null,"Hores acumulades TG's"]
[]
[null,null,"Hores acumulades 20-10-13 - 31-12-22","Hores acumulades 2023","Hores restants fins arribar a 10.000 h"]
[]
[]
[]
[null,"TG2",{"$f":"2096.18+629.38+150.7+329+191.4","v":3396.66},{"$f":"O52","v":182.44166500087312},{"$f":"10000-(C64+D64)","v":6420.8983349991267}]