Workbook

Sheet INSTRUCCIONS
A2: INSTRUCCIONS
A4: El compte justificatiu constarà dels fulls següents: - DOCUMENTACIÓ - DECLARACIÓ RESPONSABLE - BALANÇ FINAL - MOVIMENTS DELS FONS - JUSTIFICANTS - MEMÒRIA D’OFERTES I CRITERIS
A5: Es recomana que per a una correcta presentació del compte justificatiu s'emplenin els fulls en aquest mateix ordre exposat.
A6: DOCUMENTACIÓ: El full "Documentació complementària i necessària per justificar el projecte aprovat" serveix de guia a l'entitat pel que fa a la documentació justificativa; l'entitat haurà de complir els requisits de la documentació per a una correcta validació del compte justificatiu i per a complir amb els punts establerts en la convocatòria.
A7: DECLARACIÓ RESPONSABLE: L'entitat beneficiària de la subvenció és l'única responsable davant la Direcció General de Cooperació i Immigració de la realització del projecte, que és el fonament de concessió de la subvenció en la forma i en els termes establerts, i també de la justificació de les despeses que deriven de l'execució del mateix. Per això, l'entitat ha de presentar signat el full DECLARACIÓ RESPONSABLE. En aquesta Declaració s’inclou, entre d’altres, la declaració responsable sobre la traducció dels justificants que estan en un idioma diferent dels oficials de les Illes Balears, així com la declaració responsable de despeses indirectes en cas que n’hi hagi, per la qual cosa enviant aquest full signat electrònicament, no serà necessari enviar aquestes 2 declaracions en un document a part.
A8: BALANÇ FINAL: L'entitat ha de consignar les quanties del pressupost del projecte aprovat, amb totes les modificacions pressupostàries aprovades, si escau, per l’òrgan competent. D'acord amb la convocatòria les modificacions substancials han d'estar prèviament autoritzades. Les modificacions de pressupost (no substancials/substancials) només es poden efectuar dins els seus propis capítols pressupostaris.
A9: MOVIMENTS DEL FONS: Aquest full permet comprovar la quantitat dels fons transmesos en altra divisa (local i intermèdia), i així determinar el tipus de canvi per aplicar correctament en el compte justificatiu. S'ha de començar a emplenar l'apartat "Aportacions projecte", indicant el nom de la moneda intermèdia i la moneda local a les caselles "Denominació de la moneda". En l'apartat "Aportacions projecte" també s'han de detallar totes les aportacions realitzades pels finançadors amb el tipus de moneda corresponent. En l'apartat de "Transferències bancàries" s'han d'incloure les transferències de fons fetes i els canvis de divisa realitzats. Així, a les columnes "Import en €", "Moneda intermèdia" i "Moneda local", s'han d'anotar les entrades amb signe positiu i les sortides amb signe negatiu. (Exemple: Es transfereixen fons en euros al compte del soci local, el seu contravalor en dòlars s'anotarà amb signe positiu i la quantia transferida en euros amb signe negatiu. Si, posteriorment, es canvien dòlars a Moneda local, s'anotarà la sortida de dòlars amb signe negatiu, i el seu contravalor en Moneda local amb signe positiu). En l'apartat dels "Interessos generats" s'han d'anotar els interessos generats en cada divisa i s'hi han d'adjuntar els certificats bancaris respectius, tant si s'han generat interessos com si no.
A10: JUSTIFICANTS: En aquest full s'han d’identificar totes les despeses dins els camps de la línia corresponent, núm. d'ordre, núm. de justificant, data d'emissió, concepte, l'import en euros, el percentatge imputat i la data de pagament. És necessari justificar el pagament de les despeses mitjançant rebuts, extractes bancaris o factures signades pagades al comptat. Els justificants han d’estar numerats correlativament del primer al darrer en el seu conjunt i no pel que fa a les diferents partides. Els justificants originals s’han d’enviar com a còpia electrònica simple, firmada electrònicament per la persona representant de l’entitat, tal com estableix la Instrucció 1/2023, de 14 d’abril, de la DG de Cooperació i Immigració. El total per justificar del projecte és el pressupost final aprovat més els interessos generats. La quantitat per justificar apareix directament a la casella corresponent dins el requadre del final del full.
A11: Requisits de les Justificacions: FACTURES I REBUTS DE CAIXA Per justificar la despesa: Factures: contingut 1. Número de factura 2. Dades del proveïdor: Nom o raó social, número del document d’identitat o document equivalent al NIF espanyol Domicili 3. Nom del client o destinatari: Nom, número de document d’identitat (bàsicament) Domicili 4. Lloc i data d’emissió. 5. Descripció del subministrament, obra o servei. 6. Preu unitari i total de la contraprestació (impostos, si escau) 7. Forma de pagament: transferència, xec o efectiu.
A12: És al comptat quan: Només hi ha data d’emissió. És a venciment quan: Hi ha data de venciment. Per justificar el pagament: • Banc o transferència, és necessari presentar l’extracte bancari on consta el pagament. • Efectiu, es podrà presentar un rebut amb les dades del proveïdor i signatura. • Xec, còpia del xec i extracte bancari. Així mateix, per justificar el pagament es podrà presentar la mateixa factura amb el segell pagat, cancel·lat, rebut, “cash” amb la signatura i el nom del creditor. Per justificar la despesa i el pagament: Rebuts de caixa o rebuts: contingut 1. Número de rebut. 2. Dades del proveïdor, com a la factura. 3. Dades del client, com a la factura. 4. Nom i signatura del creditor. 5. El rebut de caixa ja justifica el pagament. 6. Descripció de les activitats o concepte de la despesa, com a la factura. Si compleix els requisits es podrà valorar positivament la despesa i el pagament.
A13: OFERTES I CRITERIS: Aquest full s'ha d'emplenar en els casos d'adquisició d'immobles o execució d'obres superiors a 40.000 € i en l'adquisició o el lloguer d'equips i materials inventariables o prestacions de serveis tècnics i professionals superiors a 15.000 €. A més, s'han d'aportar els documents que acreditin les ofertes econòmiques presentades. En l'apartat "Criteris d'imputació", en cas de no haver triat l'oferta econòmica més avantatjosa, s'han d'explicar els criteris d'eficiència i economia que han motivat aquesta elecció.
A14: REINTEGRAMENT: Una vegada presentat el compte justificatiu i la memòria econòmica justificativa final, la Direcció General de Cooperació i Immigració avaluarà i comprovarà la part elegible de la justificació. La Direcció General de Cooperació i Immigració, en tot cas, determinarà si hi ha una proposta de reintegrament voluntària i informarà l'entitat sobre les instruccions, l'import i el document necessari per efectuar aquest reintegrament.

Sheet DOCUMENTACIÓ
A1: DOCUMENTACIÓ COMPLEMENTÀRIA I NECESSÀRIA PER JUSTIFICAR EL PROJECTE APROVAT
A2: En el termini de tres mesos comptadors des de la data d'acabament de l'execució del projecte, l'entitat beneficiària ha d’enviar pel tràmit telemàtic de justificació de la convocatòria, la justificació de la totalitat del projecte aprovat mitjançant la modalitat de compte justificatiu que ha de contenir la documentació següent:
B3: DOCUMENTACIÓ QUE HA DE CONTENIR LA MEMÒRIA
A4: 1 | B4: El balanç final del projecte aprovat es presenta d'acord amb el que estableix la convocatòria.
A5: 2 | B5: La relació numerada dels justificants, amb indicació de la quantia en euros i el concepte corresponent a cada factura.
A6: 3 | B6: S’envia còpia electrònica simple dels justificants originals d’acord amb la Instrucció 1/2023, de 14 d’abril, de la DG de Cooperació i Immigració.
A7: 4 | B7: En cas de justificació amb informe d’Auditoria es presenta l’Informe, la factura de l'empresa auditora, el justificant de pagament i una còpia del contracte subscrit entre l'empresa auditora i l'entitat beneficiària de la subvenció.
A8: 5 | B8: Els comprovants de les transferències efectuades amb els fons del projecte subvencionat per acreditar les divises.
A9: 6 | B9: Una declaració responsable signada per la persona que representa legalment el soci local en la qual declari haver rebut els fons al país beneficiari.
A10: 7 | B10: Els documents acreditatius del tipus de canvi (Documents bancaris de les transferències rebudes pel soci local).
A11: 8 | B11: Les quanties imputades en concepte de despeses indirectes en cas que n’hi hagi estan detallades al compte justificatiu i al full Declaració Responsable.
A12: 9 | B12: Si escau, el certificat relatiu a l'aplicació correcta dels fons expedit per l'òrgan de control propi de l'Estat o de l'organització per justificar la despesa corresponent als ajuts concedits a organitzacions internacionals de dret públic creades per tractat o acord internacional, o per les entitats que les representen en l'àmbit de les Illes Balears.
A13: 10 | B13: Si escau, el certificat acreditatiu de la correcta aplicació dels fons finançats per altres administracions públiques a les activitats previstes; per a la resta de finançadors del projecte l'entitat presenta tots els justificants de l'aplicació d'aquests fons.
A14: 11 | B14: Totes les despeses imputades al projecte s'han produït dins el termini d'execució real del projecte.
A15: 12 | B15: Els conceptes traduïts i les quanties corresponents per als justificants que estan en un idioma diferent dels idiomes oficials de les Illes Balears es correspon amb els continguts originals dels justificants i així es declara en el full Declaració Responsable.
A16: 13 | B16: Valoritzacions, si escau (només a aportacions locals).

Sheet DECLARACIÓ RESPONSABLE
A1: Declaració responsable de veracitat de les dades i documents aportats en el compte justificatiu
A2: Document de declaracions del tràmit de lliurament de la memòria econòmica final i corresponent presentació del compte justificatiu.
B5: Expedient:
B6: Exercici pressupostari:
B8: Entitat beneficiària:
B9: NIF:
B10: Representant legal:
B11: DNI:
B13: Títol del projecte:
B14: Tipus de projecte:
B15: País:
B17: DATA CONCESSIÓ:
B18: DATA INICI: | G18: DATA FINAL:
B19: DATA DE JUSTIFICACIÓ:
B20: CONVOCATÒRIA
B23: DECLAR:
C24: . Que aquest compte justificatiu abasta la realització completa de l'activitat subvencionada i conté la totalitat dels justificants imputables al projecte subvencionat.
C25: . Que totes les dades que conté aquest compte justificatiu són vertaderes i correctes.
C26: . Que les factures justificatives corresponen efectivament als pagaments efectuats i derivats de la finalitat per a la qual es va concedir la subvenció.
C27: . Que els justificants originals de les despeses i ingressos, cobraments i pagaments que es detallen estan custodiats sota la meva responsabilitat i de la contrapart.
C28: . Que els béns adquirits al projecte es destinaran a la finalitat concreta per a la qual es va concedir la subvenció pel temps mínim de 10 anys en el cas de béns inscriptibles i 5 anys per a la resta de béns.
C29: . Que aquesta entitat es compromet a prestar tota la seva col·laboració a les actuacions de comprovació i verificació que l'Administració o els seus òrgans de control considerin necessaris per tal de comprovar la veracitat o correcció de les activitats subvencionades o de la justificació presentada.
C30: . Que en relació als justificants que estan en un idioma diferent dels idiomes oficials de les Illes Balears declar que la traducció feta en la relació de justificants es correspon amb els continguts originals dels justificants.
C31: · Que l’import de les quanties imputades en concepte de despeses indirectes és:__________________________________
B33: L’entitat beneficiària,
B34: En la data de la signatura electrònica

Sheet BALANÇ FINAL
B1: Cooperació 2025 | H1: EXP. NÚM: | I1: ='DECLARACIÓ RESPONSABLE'!E5 -> 0
B2: BALANÇ FINAL DEL PROJECTE APROVAT
C4: PRESSUPOST DE FINANÇAMENT | I4: EXECUCIÓ | J4: DESVIACIONS
B5: PARTIDES DE DESPESES | C5: CAIB | D5: FONS PROPIS | E5: SOCI LOCAL | F5: POBLACIÓ DESTINATÀRIA | G5: ALTRES | H5: TOTAL | I5: TOTAL JUSTIFICAT | J5: Desviacions | K5: %
B7: A. DESPESES DIRECTES
B8: 1. Terrenys i/o immobles (compra o lloguer) | H8: =SUM(C8:G8) -> 0 | I8: =JUSTIFICANTS!O25 -> 0 | J8: =I8-H8 -> 0 | K8: =IF(H8=0,0,ROUND(J8/$H$31,2)) -> 0
B9: 2. Construcció i/o reforma d'immobles i infraestructures | H9: =SUM(C9:G9) -> 0 | I9: =JUSTIFICANTS!O28 -> 0 | J9: =I9-H9 -> 0 | K9: =IF(H9=0,0,ROUND(J9/$H$31,2)) -> 0
B10: 3. Equips, materials inventariables | H10: =SUM(C10:G10) -> 0 | I10: =JUSTIFICANTS!O31 -> 0 | J10: =I10-H10 -> 0 | K10: =IF(H10=0,0,ROUND(J10/$H$31,2)) -> 0
B11: 4. Materials no inventariables i subministraments | H11: =SUM(C11:G11) -> 0 | I11: =JUSTIFICANTS!O34 -> 0 | J11: =I11-H11 -> 0 | K11: =IF(H11=0,0,ROUND(J11/$H$31,2)) -> 0
B12: 5. Serveis tècnics i professionals | H12: =SUM(C12:G12) -> 0 | I12: =JUSTIFICANTS!O37 -> 0 | J12: =I12-H12 -> 0 | K12: =IF(H12=0,0,ROUND(J12/$H$31,2)) -> 0
B13: 6, Funcionament sobre el terreny | H13: =SUM(C13:G13) -> 0 | I13: =JUSTIFICANTS!O40 -> 0 | J13: =I13-H13 -> 0 | K13: =IF(H13=0,0,ROUND(J13/$H$31,2)) -> 0
B14: 7. Personal local | H14: =SUM(C14:G14) -> 0 | I14: =JUSTIFICANTS!O43 -> 0 | J14: =I14-H14 -> 0 | K14: =IF(H14=0,0,ROUND(J14/$H$31,2)) -> 0
B15: 8. Personal expatriat | H15: =SUM(C15:G15) -> 0 | I15: =JUSTIFICANTS!O46 -> 0 | J15: =I15-H15 -> 0 | K15: =IF(H15=0,0,ROUND(J15/$H$31,2)) -> 0
B16: 9. Personal a la seu | H16: =SUM(C16:G16) -> 0 | I16: =JUSTIFICANTS!O49 -> 0 | J16: =I16-H16 -> 0 | K16: =IF(H16=0,0,ROUND(J16/$H$31,2)) -> 0
B17: 10. Viatges, allotjaments i dietes | H17: =SUM(C17:G17) -> 0 | I17: =JUSTIFICANTS!O52 -> 0 | J17: =I17-H17 -> 0 | K17: =IF(H17=0,0,ROUND(J17/$H$31,2)) -> 0
B18: 11.Despeses financeres | H18: =SUM(C18:G18) -> 0 | I18: =JUSTIFICANTS!O55 -> 0 | J18: =I18-H18 -> 0 | K18: =IF(H18=0,0,ROUND(J18/$H$31,2)) -> 0
B19: 12. Despeses d’auditoria | H19: =SUM(C19:G19) -> 0 | I19: =JUSTIFICANTS!O58 -> 0 | J19: =I19-H19 -> 0 | K19: =IF(H19=0,0,ROUND(J19/$H$31,2)) -> 0
B20: 13. Avaluació externa | H20: =SUM(C20:G20) -> 0 | I20: =JUSTIFICANTS!O61 -> 0 | J20: =I20-H20 -> 0 | K20: =IF(H20=0,0,ROUND(J20/$H$31,2)) -> 0
B21: TOTAL DESPESES DIRECTES | C21: =SUM(C8:C20) -> 0 | D21: =SUM(D8:D20) -> 0 | E21: =SUM(E8:E20) -> 0 | F21: =SUM(F8:F20) -> 0 | G21: =SUM(G8:G20) -> 0 | H21: =SUM(C21:G21) -> 0 | I21: =SUM(I8:I20) -> 0 | J21: =I21-H21 -> 0 | K21: =IF(H21=0,0,ROUND(J21/$H$31,2)) -> 0
B22: % de despeses directes s/total | C22: =IF(C31=0,0,C21/C31) -> 0 | D22: =IF(D31=0,0,D21/D31) -> 0 | E22: =IF(E31=0,0,E21/E31) -> 0 | F22: =IF(F31=0,0,F21/F31) -> 0 | G22: =IF(G31=0,0,G21/G31) -> 0 | H22: =IF(H31=0,0,H21/H31) -> 0 | I22: =IF(I31=0,0,I21/I31) -> 0
B24: B. DESPESES INDIRECTES
B25: Despeses indirectes o administratives | H25: =SUM(C25:G25) -> 0 | I25: =JUSTIFICANTS!O64 -> 0 | J25: =I25-H25 -> 0 | K25: =IF(H25=0,0,ROUND(J25/$H$31,2)) -> 0
H26: =SUM(C26:G26) -> 0 | I26: =JUSTIFICANTS!O64 -> 0 | J26: =I26-H26 -> 0 | K26: =IF(H26=0,0,ROUND(J26/$H$31,2)) -> 0
H27: =SUM(C27:G27) -> 0 | I27: =JUSTIFICANTS!O64 -> 0 | J27: =I27-H27 -> 0 | K27: =IF(H27=0,0,ROUND(J27/$H$31,2)) -> 0
B28: TOTAL DESPESES INDIRECTES | C28: =SUM(C25:C27) -> 0 | D28: =SUM(D25:D27) -> 0 | E28: =SUM(E25:E27) -> 0 | F28: =SUM(F25:F27) -> 0 | G28: =SUM(G25:G27) -> 0 | H28: =SUM(C28:G28) -> 0 | I28: =JUSTIFICANTS!O64 -> 0 | J28: =SUM(J25:J27) -> 0 | K28: =IF(H28=0,0,ROUND(J28/$H$31,2)) -> 0
B29: % de despeses indirectes s/total | C29: =IF(C31=0,0,C28/C31) -> 0 | D29: =IF(D31=0,0,D28/D31) -> 0 | E29: =IF(E31=0,0,E28/E31) -> 0 | F29: =IF(F31=0,0,F28/F31) -> 0 | G29: =IF(G31=0,0,G28/G31) -> 0 | H29: =IF(H31=0,0,H28/H31) -> 0 | I29: =IF(I31=0,0,I28/I31) -> 0
B31: TOTAL DESPESES | C31: =C21+C28 -> 0 | D31: =D21+D28 -> 0 | E31: =E21+E28 -> 0 | F31: =F21+F28 -> 0 | G31: =G21+G28 -> 0 | H31: =H21+H28 -> 0 | I31: =I21+I28 -> 0 | J31: =J21+J28 -> 0 | K31: =IF(H31=0,0,ROUND(J31/H31,2)) -> 0
B32: INTERESSOS | C32: 0 | D32: 0 | E32: 0 | F32: 0 | G32: 0 | H32: =SUM(C32:G32) -> 0
B33: TOTAL DESPESES I INTERESSOS | C33: =SUM(C31:C32) -> 0 | D33: =SUM(D31:D32) -> 0 | E33: =SUM(E31:E32) -> 0 | F33: =SUM(F31:F32) -> 0 | G33: =SUM(G31:G32) -> 0 | H33: =SUM(H31:H32) -> 0 | I33: =SUM(I31:I32) -> 0 | J33: =I33-H33 -> 0 | K33: =IF(H33=0,0,ROUND(J33/$H$33,2)) -> 0
B35: MOTIU DE LES DESVIACIONS
B37: OBSERVACIONS
B39: En cas de cofinançament per altres, indicar quins són els cofinançadors i el seu import de cofinançament individual.
B42: L’entitat beneficiària
B44: En la data de la signatura electrònica

Sheet MOVIMENTS DELS FONS
B1: MOVIMENTS DELS FONS
E2: NÚM. EXPEDIENT: | F2: ='DECLARACIÓ RESPONSABLE'!E5 -> 0
B3: COMPTE BANCARI EN EL PAÍS D'EXECUCIÓ
B5: País:
B6: Entitat bancària:
B7: Titular del compte:
B8: Núm. del compte:
B9: Moneda:
B11: APORTACIONS AL PROJECTE
B13: Denominació de la moneda:
B14: Aportacions de finançadors del projecte | C14: Data de l'aportació | D14: Import en € | E14: Moneda intermèdia | F14: Moneda local
D15: 1 | E15: 1 | F15: 1
B23: TOTAL D'APORTACIONS: | D23: =SUM(D15:D22) -> 1 | E23: =SUM(E15:E22) -> 1 | F23: =SUM(F15:F22) -> 1
D24: Tipus de canvi
D25: €/m.l | E25: €/m.i
D26: =IF($E$43=0,0,$E$43/$D$43) -> 1 | E26: =IF($E$59=0,0,$E$59/$D$59) -> 1
B29: TRANSFERÈNCIES BANCÀRIES/CANVIS A DIVISA LOCAL
B31: Concepte | C31: Data de la transferència o de canvi de divisa | D31: Import en € de les transferències o dels canvis de divisa | E31: Moneda local
D32: 1 | E32: 1
B43: SALDO DE TRANSFERÈNCIES | D43: =SUM(D32:D42) -> 1 | E43: =SUM(E32:E42) -> 1
B45: TRANSFERÈNCIES BANCÀRIES / CANVIS A DIVISA INTERMÈDIA
B47: Concepte | C47: Data de la transferència o de canvi de divisa | D47: Import en € de les transferències o dels canvis de divisa | E47: Moneda local
D48: 1 | E48: 1
B59: SALDO DE TRANSFERÈNCIES | D59: =SUM(D48:D58) -> 1 | E59: =SUM(E48:E58) -> 1
D61: Euros | E61: Moneda intermèdia | F61: Moneda local
B63: INTERESSOS GENERATS
B65: JUSTIFICANTS PRESENTATS | D65: =JUSTIFICANTS!K65 -> 0 | E65: =JUSTIFICANTS!I65 -> 0 | F65: =JUSTIFICANTS!H65 -> 0
B67: L’entitat beneficiària
B69: En la data de la signatura electrònica

Sheet JUSTIFICANTS
A1: Cooperació 2025
A2: RELACIÓ DE JUSTIFICANTS APLICATS
A4: Expedient: | B4: ='DECLARACIÓ RESPONSABLE'!E5 -> 0 | H4: Entitat beneficiària | J4: ='DECLARACIÓ RESPONSABLE'!E8 -> 0
H5: NIF: | J5: ='DECLARACIÓ RESPONSABLE'!E9 -> 0
H6: Títol: | J6: ='DECLARACIÓ RESPONSABLE'!E13 -> 0
A8: IMPORT DEL PROJECTE APROVAT | D8: ='BALANÇ FINAL'!H33 -> 0
A9: IMPORT DE L'AJUT CONCEDIT | D9: ='BALANÇ FINAL'!C33 -> 0
A10: % DE L'AJUT CONCEDIT | D10: =IF(D8=0,0,D9/D8) -> 0 | J10: DATA DE CONCESSIÓ: | N10: ='DECLARACIÓ RESPONSABLE'!E17 -> 0
A11: INGRESSOS BANCARIS DEL PROJECTE (INTERESSOS I ALTRES) | D11: ='BALANÇ FINAL'!H32 -> 0 | J11: DATA D'EXECUCIÓ: de: | L11: ='DECLARACIÓ RESPONSABLE'!E18 -> 0 | M11: fins: | N11: ='DECLARACIÓ RESPONSABLE'!I18 -> 0
J12: DATA DE JUSTIFICACIÓ: | N12: ='DECLARACIÓ RESPONSABLE'!E19 -> 0
H14: Tipus de canvi
H15: €/m.l. | I15: €/m.i.
H16: ='MOVIMENTS DELS FONS'!D26 -> 1 | I16: ='MOVIMENTS DELS FONS'!E26 -> 1
A21: PRESSUPOST | C21: IDENTIFICACIÓ DE JUSTIFICANTS | M21: COSTS JUSTIFICATS | O21: COST ELEGIBLE
A22: Partida | B22: Import (€) | C22: Núm. d’ordre | D22: Núm. de justificant | E22: Data | F22: Proveïdor | G22: Concepte | H22: Moneda local | I22: Moneda Intermèdia | J22: Euros | K22: Import (€) | L22: Data de pagament | M22: % Imp. | N22: Import | O22: Import
A23: ='BALANÇ FINAL'!B8 -> 1. Terrenys i/o immobles (compra o lloguer) | B23: ='BALANÇ FINAL'!H8 -> 0 | K23: =IF(J23=0,IF(I23=0,H23/$H$16,I23/$I$16),J23) -> 0 | M23: =100% -> 1 | N23: =M23*K23 -> 0 | O23: =N23 -> 0
K24: =IF(J24=0,IF(I24=0,H24/$H$16,I24/$I$16),J24) -> 0 | M24: =100% -> 1 | N24: =M24*K24 -> 0 | O24: =N24 -> 0
G25: ="Subtotal "&$A$23 -> Subtotal 1. Terrenys i/o immobles (compra o lloguer) | H25: =SUM(H23:OFFSET(H25,-1,0)) -> 0 | I25: =SUM(I23:OFFSET(I25,-1,0)) -> 0 | J25: =SUM(J23:OFFSET(J25,-1,0)) -> 0 | K25: =SUM(K23:OFFSET(K25,-1,0)) -> 0 | N25: =SUM(N23:OFFSET(N25,-1,0)) -> 0 | O25: =SUM(O23:OFFSET(O25,-1,0)) -> 0
A26: ='BALANÇ FINAL'!B9 -> 2. Construcció i/o reforma d'immobles i infraestructures | B26: ='BALANÇ FINAL'!H9 -> 0 | K26: =IF(J26=0,IF(I26=0,H26/$H$16,I26/$I$16),J26) -> 0 | M26: 1 | N26: =M26*K26 -> 0 | O26: =N26 -> 0
K27: =IF(J27=0,IF(I27=0,H27/$H$16,I27/$I$16),J27) -> 0 | M27: 1 | N27: =M27*K27 -> 0 | O27: =N27 -> 0
G28: ="Subtotal "&$A$26 -> Subtotal 2. Construcció i/o reforma d'immobles i infraestructures | H28: =SUM(H26:OFFSET(H28,-1,0)) -> 0 | I28: =SUM(I26:OFFSET(I28,-1,0)) -> 0 | J28: =SUM(J26:OFFSET(J28,-1,0)) -> 0 | K28: =SUM(K26:OFFSET(K28,-1,0)) -> 0 | N28: =SUM(N26:OFFSET(N28,-1,0)) -> 0 | O28: =SUM(O26:OFFSET(O28,-1,0)) -> 0
A29: ='BALANÇ FINAL'!B10 -> 3. Equips, materials inventariables | B29: ='BALANÇ FINAL'!H10 -> 0 | K29: =IF(J29=0,IF(I29=0,H29/$H$16,I29/$I$16),J29) -> 0 | M29: 1 | N29: =M27*K27 -> 0 | O29: =N29 -> 0
K30: =IF(J30=0,IF(I30=0,H30/$H$16,I30/$I$16),J30) -> 0 | M30: 1 | N30: =M28*K28 -> 0 | O30: =N30 -> 0
G31: ="Subtotal "&$A$29 -> Subtotal 3. Equips, materials inventariables | H31: =SUM(H29:OFFSET(H31,-1,0)) -> 0 | I31: =SUM(I29:OFFSET(I31,-1,0)) -> 0 | J31: =SUM(J29:OFFSET(J31,-1,0)) -> 0 | K31: =SUM(K29:OFFSET(K31,-1,0)) -> 0 | N31: =SUM(N29:OFFSET(N31,-1,0)) -> 0 | O31: =SUM(O29:OFFSET(O31,-1,0)) -> 0
A32: ='BALANÇ FINAL'!B11 -> 4. Materials no inventariables i subministraments | B32: ='BALANÇ FINAL'!H11 -> 0 | K32: =IF(J32=0,IF(I32=0,H32/$H$16,I32/$I$16),J32) -> 0 | M32: 1 | N32: =M32*K32 -> 0 | O32: =N32 -> 0
K33: =IF(J33=0,IF(I33=0,H33/$H$16,I33/$I$16),J33) -> 0 | M33: 1 | N33: =M33*K33 -> 0 | O33: =N33 -> 0
G34: ="Subtotal "&A$32 -> Subtotal 4. Materials no inventariables i subministraments | H34: =SUM(H32:OFFSET(H34,-1,0)) -> 0 | I34: =SUM(I32:OFFSET(I34,-1,0)) -> 0 | J34: =SUM(J32:OFFSET(J34,-1,0)) -> 0 | K34: =SUM(K32:OFFSET(K34,-1,0)) -> 0 | N34: =SUM(N32:OFFSET(N34,-1,0)) -> 0 | O34: =SUM(O32:OFFSET(O34,-1,0)) -> 0
A35: ='BALANÇ FINAL'!B12 -> 5. Serveis tècnics i professionals | B35: ='BALANÇ FINAL'!H12 -> 0 | K35: =IF(J35=0,IF(I35=0,H35/$H$16,I35/$I$16),J35) -> 0 | M35: 1 | N35: =M35*K35 -> 0 | O35: =N35 -> 0
K36: =IF(J36=0,IF(I36=0,H36/$H$16,I36/$I$16),J36) -> 0 | M36: 1 | N36: =M36*K36 -> 0 | O36: =N36 -> 0
G37: ="Subtotal "&$A$35 -> Subtotal 5. Serveis tècnics i professionals | H37: =SUM(H35:OFFSET(H37,-1,0)) -> 0 | I37: =SUM(I35:OFFSET(I37,-1,0)) -> 0 | J37: =SUM(J35:OFFSET(J37,-1,0)) -> 0 | K37: =SUM(K35:OFFSET(K37,-1,0)) -> 0 | N37: =SUM(N35:OFFSET(N37,-1,0)) -> 0 | O37: =SUM(O35:OFFSET(O37,-1,0)) -> 0
A38: ='BALANÇ FINAL'!B13 -> 6, Funcionament sobre el terreny | B38: ='BALANÇ FINAL'!H13 -> 0 | K38: =IF(J38=0,IF(I38=0,H38/$H$16,I38/$I$16),J38) -> 0 | M38: 1 | N38: =(K38*M38) -> 0 | O38: =N38 -> 0
K39: =IF(J39=0,IF(I39=0,H39/$H$16,I39/$I$16),J39) -> 0 | M39: 1 | N39: =(K39*M39) -> 0 | O39: =N39 -> 0
G40: ="Subtotal "&$A$38 -> Subtotal 6, Funcionament sobre el terreny | H40: =SUM(H38:OFFSET(H40,-1,0)) -> 0 | I40: =SUM(I38:OFFSET(I40,-1,0)) -> 0 | J40: =SUM(J38:OFFSET(J40,-1,0)) -> 0 | K40: =SUM(K38:OFFSET(K40,-1,0)) -> 0 | N40: =SUM(N38:OFFSET(N40,-1,0)) -> 0 | O40: =SUM(O38:OFFSET(O40,-1,0)) -> 0
A41: ='BALANÇ FINAL'!B14 -> 7. Personal local | B41: ='BALANÇ FINAL'!H14 -> 0 | K41: =IF(J41=0,IF(I41=0,H41/$H$16,I41/$I$16),J41) -> 0 | M41: 1 | N41: =M41*K41 -> 0 | O41: =N41 -> 0
K42: =IF(J42=0,IF(I42=0,H42/$H$16,I42/$I$16),J42) -> 0 | M42: 1 | N42: =M42*K42 -> 0 | O42: =N42 -> 0
G43: ="Subtotal "&$A$41 -> Subtotal 7. Personal local | H43: =SUM(H41:OFFSET(H43,-1,0)) -> 0 | I43: =SUM(I41:OFFSET(I43,-1,0)) -> 0 | J43: =SUM(J41:OFFSET(J43,-1,0)) -> 0 | K43: =SUM(K41:OFFSET(K43,-1,0)) -> 0 | N43: =SUM(N41:OFFSET(N43,-1,0)) -> 0 | O43: =SUM(O41:OFFSET(O43,-1,0)) -> 0
A44: ='BALANÇ FINAL'!B15 -> 8. Personal expatriat | B44: ='BALANÇ FINAL'!H15 -> 0 | K44: =IF(J44=0,IF(I44=0,H44/$H$16,I44/$I$16),J44) -> 0 | M44: 1 | N44: =M44*K44 -> 0 | O44: =N44 -> 0
K45: =IF(J45=0,IF(I45=0,H45/$H$16,I45/$I$16),J45) -> 0 | M45: 1 | N45: =M45*K45 -> 0 | O45: =N45 -> 0
G46: ="Subtotal "&$A$44 -> Subtotal 8. Personal expatriat | H46: =SUM(H44:OFFSET(H46,-1,0)) -> 0 | I46: =SUM(I44:OFFSET(I46,-1,0)) -> 0 | J46: =SUM(J44:OFFSET(J46,-1,0)) -> 0 | K46: =SUM(K44:OFFSET(K46,-1,0)) -> 0 | N46: =SUM(N44:OFFSET(N46,-1,0)) -> 0 | O46: =SUM(O44:OFFSET(O46,-1,0)) -> 0
A47: ='BALANÇ FINAL'!B16 -> 9. Personal a la seu | B47: ='BALANÇ FINAL'!H16 -> 0 | K47: =IF(J47=0,IF(I47=0,H47/$H$16,I47/$I$16),J47) -> 0 | M47: 1 | N47: =(K47*M47) -> 0 | O47: =N47 -> 0
...

Sheet OFERTES I CRITERIS
B1: MEMÒRIA D'OFERTES I CRITERIS DE SELECCIÓ
B3: EXPEDIENT | E3: ='DECLARACIÓ RESPONSABLE'!E5 -> 0
B4: EXERCICI PRESSUPOSTARI | E4: ='DECLARACIÓ RESPONSABLE'!E6 -> 0
B5: ENTITAT BENEFICIÀRIA | E5: ='DECLARACIÓ RESPONSABLE'!E8 -> 0
B6: NIF | E6: ='DECLARACIÓ RESPONSABLE'!E9 -> 0
B7: TÍTOL DEL PROJECTE | E7: ='DECLARACIÓ RESPONSABLE'!E13 -> 0
B9: ADQUISICIÓ D'IMMOBLES (1)
B10: Identificació d'immoble
B11: Nom/raó social del taxador
B12: Núm. D'informe de taxació
B13: Data d'emissió de taxació
B14: Valor de taxació
B16: OBRES, MATERIALS INVENTARIABLES O SERVEIS (2) (3)
B17: OBRES | C17: Identificació de la prestació
C18: Pressuposts sol·licitats
C19: Empresa: | E19: Oferta econòmica: | F19: Altres aspectes rellevants de l'oferta:
B26: MATERIALS INVENTARIABLES | C26: Identificació de la prestació
C27: Pressuposts sol·licitats
C28: Empresa: | E28: Oferta econòmica: | F28: Altres aspectes rellevants de l'oferta:
B35: SERVEIS TÈCNICS I PROFESSIONALS | C35: Identificació de la prestació
C36: Pressuposts sol·licitats
C37: Empresa: | E37: Oferta econòmica: | F37: Altres aspectes rellevants de l'oferta:
B44: DESCRIPCIÓ DE CRITERIS D'IMPUTACIÓ:
E47: NOTES:
E48: (1) S'ha d'emplenar amb independència de la quantia de l'adquisició i adjuntant el certificat del taxador independent.
E49: (2) S'ha d'emplenar per: - Obres amb un cost d'execució superior a 40.000 € -Adquisició o lloguer d'equips i materials inventariables en valors superiors a 15.000 € - Préstecs de serveis tècnics i professionals per valors superiors a 15.000 €.
E50: (3) S'han d'aportar els documents que acreditin les ofertes econòmiques presentades.
