Workbook

Sheet Resum Instruccions
A1: Simulació per al càlcul de l'ajut | C1: Factor de Insularitat 2026-2027 | I1: Rev_260929
A3: Resum de l'actuació
B5: SOL·LICITUD | F5: JUSTIFICACIÓ | J5: DESVINCULACIÓ
A6: COST DE LES ACTUACIONS | B6: Import total sense IVA (€) | C6: Import total amb IVA (€) | D6: Quantia de l'ajut sense IVA (€) | E6: Quantia de l'ajut amb IVA (€) | F6: Import total sense IVA (€) | G6: Import total amb IVA (€) | H6: Quantia de l'ajut sense IVA (€) | I6: Quantia de l'ajut amb IVA (€) | J6: Quantia de l'ajut sense IVA (€) | K6: Quantia de l'ajut amb IVA (€)
A7: PROGRAMA 1: FOTOVOLTAICA | B7: ='Programa 1'!C41 -> 0 | C7: ='Programa 1'!D41 -> 0 | D7: ='Programa 1'!C49 -> 0 | E7: ='Programa 1'!D49 -> 0 | F7: ='Programa 1'!F41 -> 0 | G7: ='Programa 1'!G41 -> 0 | H7: ='Programa 1'!F49 -> 0 | I7: ='Programa 1'!G49 -> 0 | J7: =IF(D7<H7,"Limitat subvenció concedida",D7-H7) -> 0 | K7: =IF(E7<I7,"Limitat subvenció concedida",E7-I7) -> 0
A8: PROGRAMA 2: GENERACIÓ TÈRMICA RENOVABLE | B8: ='Programa 2'!C37 -> 0 | C8: ='Programa 2'!D37 -> 0 | D8: ='Programa 2'!C45 -> 0 | E8: ='Programa 2'!D45 -> 0 | F8: ='Programa 2'!F37 -> 0 | G8: ='Programa 2'!G37 -> 0 | H8: ='Programa 2'!F45 -> 0 | I8: ='Programa 2'!G45 -> 0 | J8: =IF(D8<H8,"Limitat subvenció concedida",D8-H8) -> 0 | K8: =IF(E8<I8,"Limitat subvenció concedida",E8-I8) -> 0
A9: PROGRAMA 3: EMMAGATZEMATGE | B9: ='Programa 3'!C33 -> 0 | C9: ='Programa 3'!D33 -> 0 | D9: ='Programa 3'!C39 -> 0 | E9: ='Programa 3'!D39 -> 0 | F9: ='Programa 3'!F33 -> 0 | G9: ='Programa 3'!G33 -> 0 | H9: ='Programa 3'!F39 -> 0 | I9: ='Programa 3'!G39 -> 0 | J9: =IF(D9<H9,"Limitat subvenció concedida",D9-H9) -> 0 | K9: =IF(E9<I9,"Limitat subvenció concedida",E9-I9) -> 0
A10: PROGRAMA 4: INFRAESTRUCTURA DE RECÀRREGA | B10: ='Programa 4'!C28 -> 0 | C10: ='Programa 4'!D28 -> 0 | D10: ='Programa 4'!C33 -> 0 | E10: ='Programa 4'!D33 -> 0 | F10: ='Programa 4'!F28 -> 0 | G10: ='Programa 4'!G28 -> 0 | H10: ='Programa 4'!F33 -> 0 | I10: ='Programa 4'!G33 -> 0 | J10: =IF(D10<H10,"Limitat subvenció concedida",D10-H10) -> 0 | K10: =IF(E10<I10,"Limitat subvenció concedida",E10-I10) -> 0
A11: TOTAL | B11: =SUM(B7:B10) -> 0 | C11: =SUM(C7:C10) -> 0 | D11: =IF(SUM(D7:D10)>300000,300000,SUM(D7:D10)) -> 0 | E11: =IF(SUM(E7:E10)>300000,300000,SUM(E7:E10)) -> 0 | F11: =SUM(F7:F10) -> 0 | G11: =SUM(G7:G10) -> 0 | H11: =IF(SUM(H7:H10)>300000,300000,SUM(H7:H10)) -> 0 | I11: =IF(SUM(I7:I10)>300000,300000,SUM(I7:I10)) -> 0 | J11: =SUM(J7:J10) -> 0 | K11: =SUM(K7:K10) -> 0
A14: Instruccions per a l'ús de l'eina de simulació per al càlcul de l'ajut per a la convocatòria pública de subvencions Factor de Insularitat 2026-2027
A16: Introducció
A18: La Direcció General d’Economia Circular, Transició Energètica i Canvi Climàtic ha desenvolupat aquesta eina de simulació per al cálcul de l'ajut per a la convocatòria pública de subvencions 2026-2027 per al foment d’inversions en energies renovables, emmagatzematge elèctric i infraestructura de recàrrega dins el marc de Factor d’Insularitat de les Illes Balears (Factor de insularitat 2026-2027). Aquesta eina és pública i de lliure ús; la utilització d'aquesta eina és responsabilitat exclusiva de l'usuari, aquesta Dirección General no assumeix cap responsabilitat sobre la utilització que se'n faci.
A19: Són subvencionables en aquesta convocatòria els programes d’actuació següents que es detallen a continuació i que compleixin els requisits establerts en aquesta convocatòria: — Programa d’actuació 1: implantació d’instal·lacions d’autoconsum amb fonts d’energia renovable. — Programa d’actuació 2: implantació de noves instal·lacions tèrmiques amb fonts renovables de la tecnologia aerotèrmica (exceptuant les tecnologies aire-aire), per a la climatització i/o aigua calenta sanitària. — Programa actuació 3: instal·lacions d’emmagatzematge elèctric d’autoconsum. — Programa d’actuació 4: implantació de nova infraestructura de recàrrega per a vehicle elèctric d’accés privat.
A21: Notes:
A22: El termini per presentar les sol·licituds s’inicia a partir del cinquè dia hàbil de la publicació d’aquesta Resolució en el Butlletí Oficial de les Illes Balears i finalitza el 28 de febrer de 2027.
A23: Tots els programes d’actuació per emplaçament s’han de presentar en la mateixa sol·licitud.
A24: En el cas dels beneficiaris indicats en l’apartat 2.1 d’aquesta convocatòria englobats en la lletra a) només poden presentar una sol·licitud per cada programa d’actuació.
A25: Només poden ser objecte d’ajut els equips que siguin nous, excepte les bateries procedents de la reutilització de bateries de vehicle elèctric (segona vida de bateries).
A26: Només és subvencionable una instal·lació per subministrament elèctric (CUPS) o per emplaçament en instal·lacions elèctriques aïllades o en instal·lacions tèrmiques.
A27: En tot cas, per a l’exercici 2027, la resolució d’atorgament no ha d’establir una data per a la realització de la inversió superior al 15 de setembre de 2027.
A28: La instal·lació s'ha de poder explotar sense que sigui necessària la instal·lació d'un transformador.
... A37: L’IVA és subvencionable en el cas del tipus de beneficiari sense activitat sempre que no pugui ser susceptible de recuperació o compensació total o parcial.

Sheet Programa 1
A1: Simulació per al càlcul de l'ajut | C1: Factor de Insularitat 2026-2027
A3: Programa 1: Autoconsum elèctric
A5: Tipus d'empresa | C5: Petita empresa
A6: Quantia de l'ajut base (%) | C6: =VLOOKUP(C5,'Programa 1'!$A$63:$B66,2,FALSE) -> 0.6
A7: Beneficiaris indicats a l'apartat 1 del punt segon, lletres a) i b) (Persones físiques) | B7: NO | C7: =IF(B7="SI","No pot ser beneficiari per aquest Programa 1","")
B9: SOL·LICITUD | E9: JUSTIFICACIÓ
A10: Actuació autoconsum | C10: =IF($C$12<=10,$A$59,IF($C$12<=100,$A$58,$A$57)) -> Instal·lació fotovoltaica Ps ≤ 10 kWp | F10: =IF($F$12<=10,$A$59,IF($F$12<=100,$A$58,$A$57)) -> Instal·lació fotovoltaica Ps ≤ 10 kWp
A11: La potència total instal·lada de la instal·lació, incloses les ampliacions (kW) ≤ 500 kW | B11: Pi | C11: 10 | E11: Pi | F11: 10
A12: Ps potència real de la instal·lació de generació fotovoltaica (kWp) ≤ 500 kWp | B12: Ps | C12: 10 | E12: Ps | F12: 10
C13: Cost unitari sense IVA (€/kWp) | D13: Cost unitari amb IVA (€/kWp) | F13: Cost unitari sense IVA (€/kWp) | G13: Cost unitari amb IVA (€/kWp)
A14: Cost màxim subvencionable generació €/kWp (Ca1) | C14: =VLOOKUP(C10,$A$57:$J$59,3,FALSE) -> 0 | D14: =VLOOKUP(C10,$A$57:$J$59,4,FALSE) -> 0 | F14: =VLOOKUP(F10,$A$57:$J$59,6,FALSE) -> 0 | G14: =VLOOKUP(F10,$A$57:$J$59,7,FALSE) -> 0
A15: Cost complementari subvencionable màxim marquesines €/kWp (Ca2) | B15: NO | C15: =IF($B$15="SI",VLOOKUP(C10,$A$57:$J$59,8,FALSE),0) -> 0 | D15: =IF($B$15="SI",VLOOKUP(C10,$A$57:$J$59,8,FALSE),0) -> 0 | F15: =IF($B$15="SI",VLOOKUP(F10,$A$57:$J$59,8,FALSE),0) -> 0 | G15: =IF($B$15="SI",VLOOKUP(F10,$A$57:$J$59,8,FALSE),0) -> 0
A16: Cost complementari subvencionable màxim d’eliminació d’amiant €/kWp (Ca3) | B16: NO | C16: =IF($B$16="SI",VLOOKUP(C10,$A$57:$J$59,9,FALSE),0) -> 0 | D16: =IF($B$16="SI",VLOOKUP(C10,$A$57:$J$59,9,FALSE),0) -> 0 | F16: =IF($B$16="SI",VLOOKUP(F10,$A$57:$J$59,9,FALSE),0) -> 0 | G16: =IF($B$16="SI",VLOOKUP(F10,$A$57:$J$59,9,FALSE),0) -> 0
A17: Cost complementari subvencionable màxim del canvi de tensió 230/400 €/kWp (Ca4) | B17: NO | C17: =IF($B$17="SI",VLOOKUP(C10,$A$57:$J$59,10,FALSE),0) -> 0 | D17: =IF($B$17="SI",VLOOKUP(C10,$A$57:$J$59,10,FALSE),0) -> 0 | F17: =IF($B$17="SI",VLOOKUP(F10,$A$57:$J$59,10,FALSE),0) -> 0 | G17: =IF($B$17="SI",VLOOKUP(F10,$A$57:$J$59,10,FALSE),0) -> 0
A18: =IF(OR(B15="SI",B16="SI"), "El percentatge de potència instal·lada sobre marquesina, o sobre la superfície de la qual s'ha eliminat amiant, ha de ser, almenys, el 50 % de la potència de la instal·lació de generació realment instal·lada (Ps).","") | B18: A3 | C18: =SUM(C14:C17) -> 0 | D18: =SUM(D14:D17) -> 0 | E18: A3 | F18: =SUM(F14:F17) -> 0 | G18: =SUM(G14:G17) -> 0
A19: Cost subvencionable màxim total (€) | C19: =IF(C12>500,C18*500,C18*C12) -> 0 | D19: =IF(C12>500,D18*500,D18*C12) -> 0 | F19: =IF(F12>500,F18*500,F18*F12) -> 0 | G19: =IF(F12>500,G18*500,G18*F12) -> 0
A21: COST DE L’ACTUACIÓ FOTOVOLTAICA DEL PROGRAMA 1 | B21: SOL·LICITUD | E21: JUSTIFICACIÓ
A22: Despeses | B22: Quantitat | C22: Import total sense IVA (€) | D22: Import total amb IVA (€) | E22: Quantitat | F22: Import total sense IVA (€) | G22: Import total amb IVA (€)
A23: Panells solars
A24: Estructura
A25: Inversor / Convertidor
A26: Quadres, proteccions i cables
A27: Obres civils, grues i gestió de residus
A28: Marquesines
A29: Eliminació d’amiant
A30: Canvi de tensió 230/400V
A31: Sistema de control i monitorització
A32: Estudis, projectes o memòries tècniques
A33: Direcció facultativa
A34: Coordinació de Seguretat i Salut
... A38: Altres partides necessàries
A41: Cost subvencionable generació de la instal·lació sol·licitada (€) | C41: =SUM(C23:C40)-C28-C29-C30 -> 0 | D41: =SUM(D23:D40)-D28-D29-D30 -> 0 | F41: =SUM(F23:F40)-F28-F29-F30 -> 0 | G41: =SUM(G23:G40)-G28-G29-G30 -> 0
A42: Cost subvencionable unitari generació de la instal·lació sol·licitada (€/kWp) | C42: =C41/C12 -> 0 | D42: =D41/C12 -> 0 | F42: =F41/F12 -> 0 | G42: =G41/F12 -> 0
A43: Cost subvencionable de la instal·lació sol·licitada (€) | C43: =SUM(C23:C40) -> 0 | D43: =SUM(D23:D40) -> 0 | F43: =SUM(F23:F40) -> 0 | G43: =SUM(G23:G40) -> 0
A44: Cost subvencionable unitari de la instal·lació sol·licitada (€/kWp) | B44: A2 | C44: =C43/C12 -> 0 | D44: =D43/C12 -> 0 | E44: A2 | F44: =F43/F12 -> 0 | G44: =G43/F12 -> 0
C45: Si l’IVA NO és subvencionable | D45: Si l’IVA és subvencionable | F45: Si l’IVA NO és subvencionable | G45: Si l’IVA és subvencionable
A46: Cost subvencionable unitari de la instal·lació A1 (€/kWp) | B46: A1 | C46: =IF(B7="SI",0,IF(C44>C18,C18,C44)) -> 0 | D46: =IF(B7="SI",0,IF(D44>D18,D18,D44)) -> 0 | E46: A1 | F46: =IF(B7="SI",0,IF(F44>F18,F18,F44)) -> 0 | G46: =IF(B7="SI",0,IF(G44>G18,G18,G44)) -> 0
A47: Cost subvencionable de la instal·lació AS (€) | B47: AS | C47: =IF(C12>500,C46*500,C46*C12) -> 0 | D47: =IF(C12>500,D46*500,D46*C12) -> 0 | E47: AS | F47: =IF(F12>500,F46*500,F46*F12) -> 0 | G47: =IF(F12>500,G46*500,G46*F12) -> 0
A48: Diferència entre inversió sol·licitada i cost subvencionable (€) | C48: =C43-C47 -> 0 | D48: =D43-D47 -> 0 | F48: =F43-F47 -> 0 | G48: =G43-G47 -> 0
A49: Quantia de l'ajut (€) | B49: =C6 -> 0.6 | C49: =IF(C47*C6>300000,300000,C47*C6) -> 0 | D49: =IF(D47*C6>300000,300000,D47*C6) -> 0 | E49: =C6 -> 0.6 | F49: =IF(F47*C6>300000,300000,F47*C6) -> 0 | G49: =IF(G47*C6>300000,300000,G47*C6) -> 0
A53: TAULES FACTOR INSULARITAT
A55: TAULA 1
A56: Actuació autoconsum | B56: Ca1 | C56: Ca1 acumulatiu Sol·licitud sense IVA | D56: Ca1 acumulatiu Sol·licitud amb IVA | E56: Ca1 max | F56: Ca1 acumulatiu Justificació sense IVA | G56: Ca1 acumulatiu Justificació amb IVA | H56: Ca2 | I56: Ca3 | J56: Ca4
A57: Instal·lació fotovoltaica 100 kWp < Ps ≤ 500 kWp | B57: 749 | C57: =(C59*10+MIN(C42,B58)*90+MIN(C42,B57)*(C12-100))/C12 -> 0 | D57: =(D59*10+MIN(D42,B58)*90+MIN(D42,B57)*(C12-100))/C12 -> 0 | E57: =(B59*10+B58*90+B57*(C12-100))/C12 -> 2637 | F57: =(F59*10+MIN(F42,B58)*90+MIN(F42,B57)*(F12-100))/F12 -> 0 | G57: =(G59*10+MIN(G42,B58)*90+MIN(G42,B57)*(F12-100))/F12 -> 0 | H57: 500 | I57: 720 | J57: 200
A58: Instal·lació fotovoltaica 10 kWp < Ps ≤ 100 kWp | B58: 910 | C58: =(C59*10+MIN(C42,B58)*(C12-10))/C12 -> 0 | D58: =(D59*10+MIN(D42,B58)*(C12-10))/C12 -> 0 | E58: =(B59*10+B58*(C12-10))/C12 -> 1188 | F58: =(F59*10+MIN(F42,B58)*(F12-10))/F12 -> 0 | G58: =(G59*10+MIN(G42,B58)*(F12-10))/F12 -> 0 | H58: 500 | I58: 817 | J58: 300
A59: Instal·lació fotovoltaica Ps ≤ 10 kWp | B59: 1188 | C59: =MIN(C42,B59) -> 0 | D59: =MIN(D42,B59) -> 0 | E59: =B59 -> 1188 | F59: =MIN(F42,B59) -> 0 | G59: =MIN(G42,B59) -> 0 | H59: 500 | I59: 1082 | J59: 400
A61: TAULA 2
A62: Tipo de empresa | B62: %
A63: Gran empresa | B63: 0.4
A64: Mitjana empresa | B64: 0.5
A65: Petita empresa | B65: 0.6
A66: Minimis i no ajuts d'estat | B66: 0.7
A68: COMENTARIS | C68: =VLOOKUP(C10,$A$69:$G$71,3,FALSE) -> Càlcul de la subvenció programa 1. Càlcul del cost subvencionable: A1 (cost unitari presentat): 0,00 euros/kWp; Valors taula 1: A3 (P menor_igual 10 kWp): 0,00 euros/kWp; A3 (P major 10 y P menor_igual 100 kWp): 0,00 euros/kWp; A3 (P major 100 y P menor_igual 500 kWp): 0,00 euros/kWp. Percentatge ajut aplicat (%):60. Cost unitari amiant: 0 euros/kWp | D68: =VLOOKUP(C10,$A$69:$G$71,4,FALSE) -> Càlcul de la subvenció programa 1. Càlcul del cost subvencionable: A1 (cost unitari presentat): 0,00 euros/kWp; Valors taula 1: A3 (P menor_igual 10 kWp): 0,00 euros/kWp; A3 (P major 10 y P menor_igual 100 kWp): 0,00 euros/kWp; A3 (P major 100 y P menor_igual 500 kWp): 0,00 euros/kWp. Percentatge ajut aplicat (%):60. Cost unitari amiant: 0 euros/kWp | F68: =VLOOKUP(F10,$A$69:$G$71,6,FALSE) -> Càlcul de la subvenció programa 1. Càlcul del cost subvencionable: A1 (cost unitari presentat): 0,00 euros/kWp; Valors taula 1: A3 (P menor_igual 10 kWp): 0,00 euros/kWp; A3 (P major 10 y P menor_igual 100 kWp): 0,00 euros/kWp; A3 (P major 100 y P menor_igual 500 kWp): 0,00 euros/kWp. Percentatge ajut aplicat (%):60. Cost unitari amiant: 0 euros/kWp | G68: =VLOOKUP(F10,$A$69:$G$71,7,FALSE) -> Càlcul de la subvenció programa 1. Càlcul del cost subvencionable: A1 (cost unitari presentat): 0,00 euros/kWp; Valors taula 1: A3 (P menor_igual 10 kWp): 0,00 euros/kWp; A3 (P major 10 y P menor_igual 100 kWp): 0,00 euros/kWp; A3 (P major 100 y P menor_igual 500 kWp): 0,00 euros/kWp. Percentatge ajut aplicat (%):60. Cost unitari amiant: 0 euros/kWp
A69: Instal·lació fotovoltaica 100 kWp < Ps ≤ 500 kWp | C69: ="Càlcul de la subvenció programa 1. Càlcul del cost subvencionable: A1 (cost unitari presentat): "&TEXT(C44,"0,00")&" euros/kWp; Valors taula 1: A3 (P menor_igual 10 kWp): "&TEXT(C59*10,"0,00")&" euros/kWp; A3 (P major 10 y P menor_igual 100 kWp): "&TEXT(MIN(C42,B58)*90,"0,00")&" euros/kWp; A3 (P major 100 y P menor_igual 500 kWp): "&TEXT(MIN(C42,B57)*(C12-100),"0,00")&" euros/kWp. Percentatge ajut aplicat (%):"&B49*100&". Cost unitari amiant: "&C16&" euros/kWp" -> Càlcul de la subvenció programa 1. Càlcul del cost subvencionable: A1 (cost unitari presentat): 0,00 euros/kWp; Valors taula 1: A3 (P menor_igual 10 kWp): 0,00 euros/kWp; A3 (P major 10 y P menor_igual 100 kWp): 0,00 euros/kWp; A3 (P major 100 y P menor_igual 500 kWp): 0,00 euros/kWp. Percentatge ajut aplicat (%):60. Cost unitari amiant: 0 euros/kWp | D69: ="Càlcul de la subvenció programa 1. Càlcul del cost subvencionable: A1 (cost unitari presentat): "&TEXT(D44,"0,00")&" euros/kWp; Valors taula 1: A3 (P menor_igual 10 kWp): "&TEXT(D59*10,"0,00")&" euros/kWp; A3 (P major 10 y P menor_igual 100 kWp): "&TEXT(MIN(D42,B58)*90,"0,00")&" euros/kWp; A3 (P major 100 y P menor_igual 500 kWp): "&TEXT(MIN(D42,B57)*(C12-100),"0,00")&" euros/kWp. Percentatge ajut aplicat (%):"&B49*100&". Cost unitari amiant: "&D16&" euros/kWp" -> Càlcul de la subvenció programa 1. Càlcul del cost subvencionable: A1 (cost unitari presentat): 0,00 euros/kWp; Valors taula 1: A3 (P menor_igual 10 kWp): 0,00 euros/kWp; A3 (P major 10 y P menor_igual 100 kWp): 0,00 euros/kWp; A3 (P major 100 y P menor_igual 500 kWp): 0,00 euros/kWp. Percentatge ajut aplicat (%):60. Cost unitari amiant: 0 euros/kWp | F69: ="Càlcul de la subvenció programa 1. Càlcul del cost subvencionable: A1 (cost unitari presentat): "&TEXT(F44,"0,00")&" euros/kWp; Valors taula 1: A3 (P menor_igual 10 kWp): "&TEXT(F59*10,"0,00")&" euros/kWp; A3 (P major 10 y P menor_igual 100 kWp): "&TEXT(MIN(F42,B58)*90,"0,00")&" euros/kWp; A3 (P major 100 y P menor_igual 500 kWp): "&TEXT(MIN(F42,B57)*(F12-100),"0,00")&" euros/kWp. Percentatge ajut aplicat (%):"&E49*100&". Cost unitari amiant: "&F16&" euros/kWp" -> Càlcul de la subvenció programa 1. Càlcul del cost subvencionable: A1 (cost unitari presentat): 0,00 euros/kWp; Valors taula 1: A3 (P menor_igual 10 kWp): 0,00 euros/kWp; A3 (P major 10 y P menor_igual 100 kWp): 0,00 euros/kWp; A3 (P major 100 y P menor_igual 500 kWp): 0,00 euros/kWp. Percentatge ajut aplicat (%):60. Cost unitari amiant: 0 euros/kWp | G69: ="Càlcul de la subvenció programa 1. Càlcul del cost subvencionable: A1 (cost unitari presentat): "&TEXT(G44,"0,00")&" euros/kWp; Valors taula 1: A3 (P menor_igual 10 kWp): "&TEXT(G59*10,"0,00")&" euros/kWp; A3 (P major 10 y P menor_igual 100 kWp): "&TEXT(MIN(G42,B58)*90,"0,00")&" euros/kWp; A3 (P major 100 y P menor_igual 500 kWp): "&TEXT(MIN(G42,B57)*(F12-100),"0,00")&" euros/kWp. Percentatge ajut aplicat (%):"&E49*100&". Cost unitari amiant: "&G16&" euros/kWp" -> Càlcul de la subvenció programa 1. Càlcul del cost subvencionable: A1 (cost unitari presentat): 0,00 euros/kWp; Valors taula 1: A3 (P menor_igual 10 kWp): 0,00 euros/kWp; A3 (P major 10 y P menor_igual 100 kWp): 0,00 euros/kWp; A3 (P major 100 y P menor_igual 500 kWp): 0,00 euros/kWp. Percentatge ajut aplicat (%):60. Cost unitari amiant: 0 euros/kWp
A70: Instal·lació fotovoltaica 10 kWp < Ps ≤ 100 kWp | C70: ="Càlcul de la subvenció programa 1. Càlcul del cost subvencionable: A1 (cost unitari presentat): "&TEXT(C44,"0,00")&" euros/kWp; Valors taula 1: A3 (P menor_igual 10 kWp): "&TEXT(C59*10,"0,00")&" euros/kWp; A3 (P major 10 y P menor_igual 100 kWp): "&TEXT(MIN(C42,B58)*(C12-10),"0,00")&" euros/kWp; A3 (P major 100 y P menor_igual 500 kWp): 0,00 euros/kWp. Percentatge ajut aplicat (%):"&B49*100&". Cost unitari amiant: "&C16&" euros/kWp" -> Càlcul de la subvenció programa 1. Càlcul del cost subvencionable: A1 (cost unitari presentat): 0,00 euros/kWp; Valors taula 1: A3 (P menor_igual 10 kWp): 0,00 euros/kWp; A3 (P major 10 y P menor_igual 100 kWp): 0,00 euros/kWp; A3 (P major 100 y P menor_igual 500 kWp): 0,00 euros/kWp. Percentatge ajut aplicat (%):60. Cost unitari amiant: 0 euros/kWp | D70: ="Càlcul de la subvenció programa 1. Càlcul del cost subvencionable: A1 (cost unitari presentat): "&TEXT(D44,"0,00")&" euros/kWp; Valors taula 1: A3 (P menor_igual 10 kWp): "&TEXT(D59*10,"0,00")&" euros/kWp; A3 (P major 10 y P menor_igual 100 kWp): "&TEXT(MIN(D42,B58)*(C12-10),"0,00")&" euros/kWp; A3 (P major 100 y P menor_igual 500 kWp): 0,00 euros/kWp. Percentatge ajut aplicat (%):"&B49*100&". Cost unitari amiant: "&D16&" euros/kWp" -> Càlcul de la subvenció programa 1. Càlcul del cost subvencionable: A1 (cost unitari presentat): 0,00 euros/kWp; Valors taula 1: A3 (P menor_igual 10 kWp): 0,00 euros/kWp; A3 (P major 10 y P menor_igual 100 kWp): 0,00 euros/kWp; A3 (P major 100 y P menor_igual 500 kWp): 0,00 euros/kWp. Percentatge ajut aplicat (%):60. Cost unitari amiant: 0 euros/kWp | F70: ="Càlcul de la subvenció programa 1. Càlcul del cost subvencionable: A1 (cost unitari presentat): "&TEXT(F44,"0,00")&" euros/kWp; Valors taula 1: A3 (P menor_igual 10 kWp): "&TEXT(F59*10,"0,00")&" euros/kWp; A3 (P major 10 y P menor_igual 100 kWp): "&TEXT(MIN(F42,B58)*(F12-10),"0,00")&" euros/kWp; A3 (P major 100 y P menor_igual 500 kWp): 0,00 euros/kWp. Percentatge ajut aplicat (%):"&E49*100&". Cost unitari amiant: "&F16&" euros/kWp" -> Càlcul de la subvenció programa 1. Càlcul del cost subvencionable: A1 (cost unitari presentat): 0,00 euros/kWp; Valors taula 1: A3 (P menor_igual 10 kWp): 0,00 euros/kWp; A3 (P major 10 y P menor_igual 100 kWp): 0,00 euros/kWp; A3 (P major 100 y P menor_igual 500 kWp): 0,00 euros/kWp. Percentatge ajut aplicat (%):60. Cost unitari amiant: 0 euros/kWp | G70: ="Càlcul de la subvenció programa 1. Càlcul del cost subvencionable: A1 (cost unitari presentat): "&TEXT(G44,"0,00")&" euros/kWp; Valors taula 1: A3 (P menor_igual 10 kWp): "&TEXT(G59*10,"0,00")&" euros/kWp; A3 (P major 10 y P menor_igual 100 kWp): "&TEXT(MIN(G42,B58)*(F12-10),"0,00")&" euros/kWp; A3 (P major 100 y P menor_igual 500 kWp): 0,00 euros/kWp. Percentatge ajut aplicat (%):"&E49*100&". Cost unitari amiant: "&G16&" euros/kWp" -> Càlcul de la subvenció programa 1. Càlcul del cost subvencionable: A1 (cost unitari presentat): 0,00 euros/kWp; Valors taula 1: A3 (P menor_igual 10 kWp): 0,00 euros/kWp; A3 (P major 10 y P menor_igual 100 kWp): 0,00 euros/kWp; A3 (P major 100 y P menor_igual 500 kWp): 0,00 euros/kWp. Percentatge ajut aplicat (%):60. Cost unitari amiant: 0 euros/kWp
A71: Instal·lació fotovoltaica Ps ≤ 10 kWp | C71: ="Càlcul de la subvenció programa 1. Càlcul del cost subvencionable: A1 (cost unitari presentat): "&TEXT(C44,"0,00")&" euros/kWp; Valors taula 1: A3 (P menor_igual 10 kWp): "&TEXT(C59*C12,"0,00")&" euros/kWp; A3 (P major 10 y P menor_igual 100 kWp): 0,00 euros/kWp; A3 (P major 100 y P menor_igual 500 kWp): 0,00 euros/kWp. Percentatge ajut aplicat (%):"&B49*100&". Cost unitari amiant: "&C16&" euros/kWp" -> Càlcul de la subvenció programa 1. Càlcul del cost subvencionable: A1 (cost unitari presentat): 0,00 euros/kWp; Valors taula 1: A3 (P menor_igual 10 kWp): 0,00 euros/kWp; A3 (P major 10 y P menor_igual 100 kWp): 0,00 euros/kWp; A3 (P major 100 y P menor_igual 500 kWp): 0,00 euros/kWp. Percentatge ajut aplicat (%):60. Cost unitari amiant: 0 euros/kWp | D71: ="Càlcul de la subvenció programa 1. Càlcul del cost subvencionable: A1 (cost unitari presentat): "&TEXT(D44,"0,00")&" euros/kWp; Valors taula 1: A3 (P menor_igual 10 kWp): "&TEXT(D59*C12,"0,00")&" euros/kWp; A3 (P major 10 y P menor_igual 100 kWp): 0,00 euros/kWp; A3 (P major 100 y P menor_igual 500 kWp): 0,00 euros/kWp. Percentatge ajut aplicat (%):"&B49*100&". Cost unitari amiant: "&D16&" euros/kWp" -> Càlcul de la subvenció programa 1. Càlcul del cost subvencionable: A1 (cost unitari presentat): 0,00 euros/kWp; Valors taula 1: A3 (P menor_igual 10 kWp): 0,00 euros/kWp; A3 (P major 10 y P menor_igual 100 kWp): 0,00 euros/kWp; A3 (P major 100 y P menor_igual 500 kWp): 0,00 euros/kWp. Percentatge ajut aplicat (%):60. Cost unitari amiant: 0 euros/kWp | F71: ="Càlcul de la subvenció programa 1. Càlcul del cost subvencionable: A1 (cost unitari presentat): "&TEXT(F44,"0,00")&" euros/kWp; Valors taula 1: A3 (P menor_igual 10 kWp): "&TEXT(F59*F12,"0,00")&" euros/kWp; A3 (P major 10 y P menor_igual 100 kWp): 0,00 euros/kWp; A3 (P major 100 y P menor_igual 500 kWp): 0,00 euros/kWp. Percentatge ajut aplicat (%):"&E49*100&". Cost unitari amiant: "&F16&" euros/kWp" -> Càlcul de la subvenció programa 1. Càlcul del cost subvencionable: A1 (cost unitari presentat): 0,00 euros/kWp; Valors taula 1: A3 (P menor_igual 10 kWp): 0,00 euros/kWp; A3 (P major 10 y P menor_igual 100 kWp): 0,00 euros/kWp; A3 (P major 100 y P menor_igual 500 kWp): 0,00 euros/kWp. Percentatge ajut aplicat (%):60. Cost unitari amiant: 0 euros/kWp | G71: ="Càlcul de la subvenció programa 1. Càlcul del cost subvencionable: A1 (cost unitari presentat): "&TEXT(G44,"0,00")&" euros/kWp; Valors taula 1: A3 (P menor_igual 10 kWp): "&TEXT(G59*F12,"0,00")&" euros/kWp; A3 (P major 10 y P menor_igual 100 kWp): 0,00 euros/kWp; A3 (P major 100 y P menor_igual 500 kWp): 0,00 euros/kWp. Percentatge ajut aplicat (%):"&E49*100&". Cost unitari amiant: "&G16&" euros/kWp" -> Càlcul de la subvenció programa 1. Càlcul del cost subvencionable: A1 (cost unitari presentat): 0,00 euros/kWp; Valors taula 1: A3 (P menor_igual 10 kWp): 0,00 euros/kWp; A3 (P major 10 y P menor_igual 100 kWp): 0,00 euros/kWp; A3 (P major 100 y P menor_igual 500 kWp): 0,00 euros/kWp. Percentatge ajut aplicat (%):60. Cost unitari amiant: 0 euros/kWp

Sheet Programa 2
A1: Simulació per al càlcul de l'ajut | C1: Factor de Insularitat 2026-2027
A3: Programa 2: Generació tèrmica renovable
A5: Tipus d'empresa | C5: Minimis i no ajuts d'estat
A6: Quantia de l'ajut base (%) | C6: =VLOOKUP(C5,'Programa 2'!$A$58:$B61,2,FALSE) -> 0.7
A7: Beneficiaris indicats a l'apartat 1 del punt segon, lletres a) i b) (Persones físiques) | B7: NO | C7: =IF(B7="SI",IF(C5=A61,"Ajut limitat a 25.000 €","Tipus d'empresa mal sel·leccionada"),"Ajut limitat a 100.000 €") -> Ajut limitat a 100.000 €
B9: SOL·LICITUD | E9: JUSTIFICACIÓ
A10: Actuació generació tèrmica | C10: Instal·lacions d’aerotèrmia | F10: Instal·lacions d’aerotèrmia
A11: PT és la potència en calefacció extreta de la fitxa tècnica o especificacions del fabricant | B11: PT | C11: 10 | E11: PT | F11: 10
C12: Cost unitari (€/kW) | D12: Cost (€) | F12: Cost unitari (€/kW) | G12: Cost (€)
A13: Cost unitari elegible subvencionable màxim €/kWt | C13: =VLOOKUP(C10,$A$53:$E$54,2,FALSE) -> 1130 | D13: =C13*C11 -> 11300 | F13: =VLOOKUP(F10,$A$53:$E$54,2,FALSE) -> 1130 | G13: =F13*F11 -> 11300
A14: Cost unitari de la instal·lació tèrmica de referència €/kWt | C14: =VLOOKUP(C10,$A$53:$E$54,3,FALSE) -> 130 | D14: =C14*C11 -> 1300 | F14: =VLOOKUP(F10,$A$53:$E$54,3,FALSE) -> 130 | G14: =F14*F11 -> 1300
A15: Cost unitari subvencionable màxim tèrmic €/kWt (Cb1) | C15: =VLOOKUP(C10,$A$53:$E$54,4,FALSE) -> 1000 | D15: =C15*C11 -> 10000 | F15: =VLOOKUP(F10,$A$53:$E$54,4,FALSE) -> 1000 | G15: =F15*F11 -> 10000
A16: Cost unitari màxim subvencionable nous sistemes de distribució i elements terminals €/kWt (Cb2) | C16: =VLOOKUP(C10,$A$53:$E$54,5,FALSE) -> 0 | D16: =C16*C11 -> 0 | F16: =VLOOKUP(F10,$A$53:$E$54,5,FALSE) -> 0 | G16: =F16*F11 -> 0
A17: Cost subvencionable màxim total | B17: C3 | C17: =SUM(C15:C16) -> 1000 | D17: =C17*C11 -> 10000 | E17: C3 | F17: =SUM(F15:F16) -> 1000 | G17: =F17*F11 -> 10000
A20: COST DE L’ACTUACIÓ DE LA GENERACIÓ TÈRMICA RENOVABLE DEL PROGRAMA 2 | B20: SOL·LICITUD | E20: JUSTIFICACIÓ
A21: Despeses | B21: Quantitat | C21: Import total sense IVA (€) | D21: Import total amb IVA (€) | E21: Quantitat | F21: Import total sense IVA (€) | G21: Import total amb IVA (€)
A22: Generadors SPF>2,5
A23: Emissors (elements terminals)
A24: Distribució interior i equipaments
A25: Quadres, proteccions i cables
A26: Obres civils, grues i gestió de residus
A27: Sistema de control i monitorització
A28: Estudis, projectes o memòries tècniques
A29: Direcció facultativa
A30: Coordinació de Seguretat i Salut
A31: Muntatge i costos d'execució
A32: Publicitat convocatòria
A33: Documentació de tramitació
A34: Altres partides necessàries
A37: Cost elegible subvencionable de la instal·lació sol·licitada (€) | C37: =SUM(C22:C36) -> 0 | D37: =SUM(D22:D36) -> 0 | F37: =SUM(F22:F36) -> 0 | G37: =SUM(G22:G36) -> 0
A38: Cost de la instal·lació tèrmica de referència (€) | C38: =D14 -> 1300 | D38: =D14 -> 1300 | F38: =G14 -> 1300 | G38: =G14 -> 1300
A39: Cost subvencionable de la instal·lació sol·licitada (€) | C39: =MAX(0,C37-C38) -> 0 | D39: =MAX(0,D37-D38) -> 0 | F39: =MAX(0,F37-F38) -> 0 | G39: =MAX(0,G37-G38) -> 0
A40: Cost subvencionable unitari de la instal·lació sol·licitada (€/kW) | B40: C2 | C40: =C39/C11 -> 0 | D40: =D39/C11 -> 0 | E40: C2 | F40: =F39/F11 -> 0 | G40: =G39/F11 -> 0
C41: Si l’IVA NO és subvencionable | D41: Si l’IVA és subvencionable | F41: Si l’IVA NO és subvencionable | G41: Si l’IVA és subvencionable
A42: Cost subvencionable unitari de la instal·lació C1 (€/kW) | B42: C1 | C42: =IF(C40>C17,C17,C40) -> 0 | D42: =IF(D40>C17,C17,D40) -> 0 | E42: C1 | F42: =IF(F40>F17,F17,F40) -> 0 | G42: =IF(G40>F17,F17,G40) -> 0
A43: Cost subvencionable de la instal·lació CS (€) | B43: CS | C43: =C42*C11 -> 0 | D43: =D42*C11 -> 0 | E43: CS | F43: =F42*F11 -> 0 | G43: =G42*F11 -> 0
A44: Diferència entre inversió sol·licitada i cost elegible subvencionable (€) | C44: =IF(C37-D13<0,"No supera cost elegible màxim",C37-C43) -> No supera cost elegible màxim | D44: =IF(D37-D13<0,"No supera cost elegible màxim",D37-D43) -> No supera cost elegible màxim | F44: =IF(F37-G13<0,"No supera cost elegible màxim",F37-F43) -> No supera cost elegible màxim | G44: =IF(G37-G13<0,"No supera cost elegible màxim",G37-G43) -> No supera cost elegible màxim
A45: Quantia de l'ajut (€) | B45: =C6 -> 0.7 | C45: =IF(B7="SI",IF(C43*C6>25000,25000,C43*C6),IF(C43*C6>100000,100000,C43*C6)) -> 0 | D45: =IF(B7="SI",IF(D43*C6>25000,25000,D43*C6),IF(D43*C6>100000,100000,D43*C6)) -> 0 | E45: =C6 -> 0.7 | F45: =IF(B7="SI",IF(F43*C6>25000,25000,F43*C6),IF(F43*C6>100000,100000,F43*C6)) -> 0 | G45: =IF(B7="SI",IF(G43*C6>25000,25000,G43*C6),IF(G43*C6>100000,100000,G43*C6)) -> 0
A47: Notes: En aquest programa s’estableixen els límits per installació següents: a) 25.000 euros per als beneficiaris indicats a l’apartat 1 del punt segon, lletres a) i b). b) 100.000 euros per a la resta de beneficiaris indicats en la lletra a) anterior.
A49: TAULES FACTOR INSULARITAT
A51: TAULA 3
A52: Actuació autoconsum | B52: Ceum | C52: Cuf | D52: Cb1 | E52: Cb2
A53: Instal·lacions d’aerotèrmia | B53: 1130 | C53: 130 | D53: 1000 | E53: 0
A54: Instal·lacions d’aerotèrmia amb nous sistemes de distribució i elements terminals | B54: 1580 | C54: 130 | D54: 1000 | E54: 450
A56: TAULA 4
A57: Tipo de empresa | B57: %
A58: Gran empresa | B58: 0.4
A59: Mitjana empresa | B59: 0.5
A60: Petita empresa | B60: 0.6
A61: Minimis i no ajuts d'estat | B61: 0.7

Sheet Programa 3
A1: Simulació per al càlcul de l'ajut | C1: Factor de Insularitat 2026-2027
A3: Programa 3: Emmagatzematge per autocomsum
A5: Tipus d'empresa | C5: Minimis i no ajuts d'estat
A6: Quantia de l'ajut base (%) | C6: =VLOOKUP(C5,'Programa 3'!$A$53:$B56,2,FALSE) -> 0.45
B9: SOL·LICITUD | E9: JUSTIFICACIÓ
A10: Actuació d'autoconsum | C10: =IF($C$12<=10,$A$49,IF($C$12<=100,$A$48,$A$47)) -> Capacitat ≤ 10 kWh | F10: =IF($F$12<=10,$A$49,IF($F$12<=100,$A$48,$A$47)) -> Capacitat ≤ 10 kWh
A11: La potència total instal·lada de la instal·lació, incloses les ampliacions (kW) ≤ 500 kW | B11: Pi | C11: 10 | E11: Pi | F11: 10
A12: Capacitat nominal de la instal·lació d'emmagatzematge (kWh) ≤ 200 kWp | B12: Cap | C12: 5 | E12: Cap | F12: 10
C13: Cost unitari (€/kWh) | D13: Cost (€) | F13: Cost unitari (€/kWh) | G13: Cost (€)
A14: Cost subvencionable màxim total | B14: B3 | C14: =IF(D12="Capacitat incorrecta",0,VLOOKUP(C10,$A$47:$B$49,2,FALSE)) -> 910 | D14: =IF(C12>200,C14*200,C14*C12) -> 4550 | E14: B3 | F14: =IF(G12="Capacitat incorrecta",0,VLOOKUP(F10,$A$47:$E$49,2,FALSE)) -> 910 | G14: =IF(F12>200,F14*200,F14*F12) -> 9100
A17: COST DE L’ACTUACIÓ D'EMMAGATZEMATGE DEL PROGRAMA 3 | B17: SOL·LICITUD | E17: JUSTIFICACIÓ
A18: Despeses | B18: Quantitat | C18: Import total sense IVA (€) | D18: Import total amb IVA (€) | E18: Quantitat | F18: Import total sense IVA (€) | G18: Import total amb IVA (€)
A19: Acumuladors ió-liti
A20: Inversor / Convertidor
A21: Quadres, proteccions i cables
A22: Obres civils, grues i gestió de residus
A23: Sistema de control i monitorització
A24: Estudis, projectes o memòries tècniques
A25: Direcció facultativa
A26: Coordinació de Seguretat i Salut
A27: Muntatge i costos d'execució
A28: Publicitat convocatòria
A29: Documentació de tramitació
A30: Altres partides necessàries
A33: Cost subvencionable de la instal·lació sol·licitada (€) | C33: =SUM(C19:C32) -> 0 | D33: =SUM(D19:D32) -> 0 | F33: =SUM(F19:F32) -> 0 | G33: =SUM(G19:G32) -> 0
A34: Cost subvencionable unitari de la instal·lació sol·licitada (€/kWh) | B34: B2 | C34: =C33/C12 -> 0 | D34: =D33/C12 -> 0 | E34: B2 | F34: =F33/F12 -> 0 | G34: =G33/F12 -> 0
C35: Si l’IVA NO és subvencionable | D35: Si l’IVA és subvencionable | F35: Si l’IVA NO és subvencionable | G35: Si l’IVA és subvencionable
A36: Cost subvencionable unitari de la instal·lació B1 (€/kWh) | B36: B1 | C36: =IF(C34>C14,C14,C34) -> 0 | D36: =IF(D34>C14,C14,D34) -> 0 | E36: B1 | F36: =IF(F34>F14,F14,F34) -> 0 | G36: =IF(G34>F14,F14,G34) -> 0
A37: Cost subvencionable de la instal·lació BS (€) | B37: BS | C37: =IF(C12>200,C36*200,C36*C12) -> 0 | D37: =IF(C12>200,D36*200,D36*C12) -> 0 | E37: BS | F37: =IF(F12>200,F36*200,F36*F12) -> 0 | G37: =IF(F12>200,G36*200,G36*F12) -> 0
A38: Diferència entre inversió sol·licitada i cost subvencionable (€) | C38: =C33-C37 -> 0 | D38: =D33-D37 -> 0 | F38: =F33-F37 -> 0 | G38: =G33-G37 -> 0
A39: Quantia de l'ajut (€) | B39: =C6 -> 0.45 | C39: =IF(C37*C6>300000,300000,C37*C6) -> 0 | D39: =IF(D37*C6>300000,300000,D37*C6) -> 0 | E39: =C6 -> 0.45 | F39: =IF(F37*C6>300000,300000,F37*C6) -> 0 | G39: =IF(G37*C6>300000,300000,G37*C6) -> 0
A43: TAULES FACTOR INSULARITAT
A45: TAULA 5
A46: Actuació d'autoconsum | B46: B3
A47: 100 kWh < Capacitat ≤ 200 kWh | B47: 455
A48: 10 kWh < Capacitat ≤ 100 kWh | B48: 650
A49: Capacitat ≤ 10 kWh | B49: 910
A51: TAULA 6
A52: Tipo de empresa | B52: %
A53: Gran empresa | B53: 0.3
A54: Mitjana empresa | B54: 0.35
A55: Petita empresa | B55: 0.4
A56: Minimis i no ajuts d'estat | B56: 0.45

Sheet Programa 4
A1: Simulació per al càlcul de l'ajut | C1: Factor de Insularitat 2026-2027
A3: Programa 4: Infraestructura de recàrrega
A5: Tipus d'empresa | C5: Minimis i no ajuts d'estat
A6: Quantia de l'ajut base (%) | C6: =VLOOKUP(C5,'Programa 4'!$A$41:$B44,2,FALSE) -> 0.7
A7: Beneficiaris indicats a l'apartat 1 del punt segon, lletres a) (Persones físiques sense activitat econòmica) | B7: NO | C7: =IF(B7="SI",IF(C5=A44,"Ajut limitat a 2.500 €","Tipus d'empresa mal sel·leccionada"),"Ajut limitat a 12.000 €") -> Ajut limitat a 12.000 €
B9: SOL·LICITUD | E9: JUSTIFICACIÓ
A10: Potència total instal·lada de la nova infraestructura de recàrrega d'accés privat ≤ 15 kW | B10: Pi | C10: 15 | E10: Pi | F10: 15
A13: COST DE L’ACTUACIÓ DE LA INFRAESTRUCTURA DE RECÀRREGA DEL PROGRAMA 4 | B13: SOL·LICITUD | E13: JUSTIFICACIÓ
A14: Despeses | B14: Quantitat | C14: Import total sense IVA (€) | D14: Import total amb IVA (€) | E14: Quantitat | F14: Import total sense IVA (€) | G14: Import total amb IVA (€)
A15: Equips punts de recàrrega
A16: Quadres, proteccions i cables
A17: Obres civils, grues i gestió de residus
A18: Sistema de control i monitorització
A19: Estudis, projectes o memòries tècniques
A20: Direcció facultativa
A21: Coordinació de Seguretat i Salut
A22: Muntatge i costos d'execució
A23: Publicitat convocatòria
A24: Documentació de tramitació
A25: Altres partides necessàries
A28: Cost subvencionable de la instal·lació sol·licitada (€) | C28: =SUM(C15:C27) -> 0 | D28: =SUM(D15:D27) -> 0 | F28: =SUM(F15:F27) -> 0 | G28: =SUM(G15:G27) -> 0
A29: Cost subvencionable unitari de la instal·lació sol·licitada (€/kW) | C29: =C28/C10 -> 0 | D29: =D28/C10 -> 0 | F29: =F28/F10 -> 0 | G29: =G28/F10 -> 0
C30: Si l’IVA NO és subvencionable | D30: Si l’IVA és subvencionable | F30: Si l’IVA NO és subvencionable | G30: Si l’IVA és subvencionable
A31: Cost subvencionable de la instal·lació (€) | C31: =C28 -> 0 | D31: =D28 -> 0 | F31: =F28 -> 0 | G31: =G28 -> 0
A32: Cost subvencionable unitari de la instal·lació (€/kW) | C32: =C29 -> 0 | D32: =D29 -> 0 | F32: =F29 -> 0 | G32: =G29 -> 0
A33: Quantia de l'ajut (€) | B33: =C6 -> 0.7 | C33: =IF(B7="SI",IF(C31*C6>2500,2500,C31*C6),IF(C31*C6>12000,12000,C31*C6)) -> 0 | D33: =IF(B7="SI",IF(D31*C6>2500,2500,D31*C6),IF(D31*C6>12000,12000,D31*C6)) -> 0 | E33: =C6 -> 0.7 | F33: =IF(B7="SI",IF(F31*C6>2500,2500,F31*C6),IF(F31*C6>12000,12000,F31*C6)) -> 0 | G33: =IF(B7="SI",IF(G31*C6>2500,2500,G31*C6),IF(G31*C6>12000,12000,G31*C6)) -> 0
A37: TAULES FACTOR INSULARITAT
A39: TAULA 7
A40: Tipo de empresa | B40: %
A41: Gran empresa | B41: 0.2
A42: Mitjana empresa | B42: 0.3
A43: Petita empresa | B43: 0.4
A44: Minimis i no ajuts d'estat | B44: 0.7
